BEGIN:VCALENDAR
VERSION:2.0
PRODID:-//Immanuel-Kant-Gymnasium - ECPv6.15.20//NONSGML v1.0//EN
CALSCALE:GREGORIAN
METHOD:PUBLISH
X-WR-CALNAME:Immanuel-Kant-Gymnasium
X-ORIGINAL-URL:https://www.gymnasium-teltow.de
X-WR-CALDESC:Veranstaltungen für Immanuel-Kant-Gymnasium
REFRESH-INTERVAL;VALUE=DURATION:PT1H
X-Robots-Tag:noindex
X-PUBLISHED-TTL:PT1H
BEGIN:VTIMEZONE
TZID:Europe/Berlin
BEGIN:DAYLIGHT
TZOFFSETFROM:+0100
TZOFFSETTO:+0200
TZNAME:CEST
DTSTART:20240331T010000
END:DAYLIGHT
BEGIN:STANDARD
TZOFFSETFROM:+0200
TZOFFSETTO:+0100
TZNAME:CET
DTSTART:20241027T010000
END:STANDARD
BEGIN:DAYLIGHT
TZOFFSETFROM:+0100
TZOFFSETTO:+0200
TZNAME:CEST
DTSTART:20250330T010000
END:DAYLIGHT
BEGIN:STANDARD
TZOFFSETFROM:+0200
TZOFFSETTO:+0100
TZNAME:CET
DTSTART:20251026T010000
END:STANDARD
BEGIN:DAYLIGHT
TZOFFSETFROM:+0100
TZOFFSETTO:+0200
TZNAME:CEST
DTSTART:20260329T010000
END:DAYLIGHT
BEGIN:STANDARD
TZOFFSETFROM:+0200
TZOFFSETTO:+0100
TZNAME:CET
DTSTART:20261025T010000
END:STANDARD
END:VTIMEZONE
BEGIN:VEVENT
DTSTART;TZID=Europe/Berlin:20250916T180000
DTEND;TZID=Europe/Berlin:20250916T200000
DTSTAMP:20260423T225416
CREATED:20250915T202420Z
LAST-MODIFIED:20250916T175446Z
UID:10000181-1758045600-1758052800@www.gymnasium-teltow.de
SUMMARY:Stammtisch Förderverein
DESCRIPTION:Der Förderverein lädt alle Mitglieder\, Eltern\, Lehrkräfte und Interessierten herzlich zum nächsten Stammtisch ein. In gemütlicher Runde möchten wir über aktuelle Projekte\, neue Ideen und zukünftige Vorhaben sprechen. Der Stammtisch bietet eine gute Gelegenheit zum Austausch\, zum Kennenlernen und zum Mitgestalten.\nWir freuen uns auf viele bekannte Gesichter – und natürlich auch auf alle\, die zum ersten Mal vorbeischauen!
URL:https://www.gymnasium-teltow.de/event/stammtisch-foerderverein-3/
LOCATION:Velas Restaurant\, Marktpl. 1-3\, 14513 Teltow
CATEGORIES:KANT-Öffentlich
END:VEVENT
END:VCALENDAR