BEGIN:VCALENDAR
VERSION:2.0
PRODID:-//Immanuel-Kant-Gymnasium - ECPv6.15.20//NONSGML v1.0//EN
CALSCALE:GREGORIAN
METHOD:PUBLISH
X-ORIGINAL-URL:https://www.gymnasium-teltow.de
X-WR-CALDESC:Veranstaltungen für Immanuel-Kant-Gymnasium
REFRESH-INTERVAL;VALUE=DURATION:PT1H
X-Robots-Tag:noindex
X-PUBLISHED-TTL:PT1H
BEGIN:VTIMEZONE
TZID:Europe/Berlin
BEGIN:DAYLIGHT
TZOFFSETFROM:+0100
TZOFFSETTO:+0200
TZNAME:CEST
DTSTART:20240331T010000
END:DAYLIGHT
BEGIN:STANDARD
TZOFFSETFROM:+0200
TZOFFSETTO:+0100
TZNAME:CET
DTSTART:20241027T010000
END:STANDARD
BEGIN:DAYLIGHT
TZOFFSETFROM:+0100
TZOFFSETTO:+0200
TZNAME:CEST
DTSTART:20250330T010000
END:DAYLIGHT
BEGIN:STANDARD
TZOFFSETFROM:+0200
TZOFFSETTO:+0100
TZNAME:CET
DTSTART:20251026T010000
END:STANDARD
BEGIN:DAYLIGHT
TZOFFSETFROM:+0100
TZOFFSETTO:+0200
TZNAME:CEST
DTSTART:20260329T010000
END:DAYLIGHT
BEGIN:STANDARD
TZOFFSETFROM:+0200
TZOFFSETTO:+0100
TZNAME:CET
DTSTART:20261025T010000
END:STANDARD
END:VTIMEZONE
BEGIN:VEVENT
DTSTART;TZID=Europe/Berlin:20251210T133000
DTEND;TZID=Europe/Berlin:20251210T150000
DTSTAMP:20260423T133520
CREATED:20251007T075443Z
LAST-MODIFIED:20251210T135457Z
UID:10000366-1765373400-1765378800@www.gymnasium-teltow.de
SUMMARY:AG: Chor
DESCRIPTION:
URL:https://www.gymnasium-teltow.de/event/ag-chor-10/
LOCATION:Aula
CATEGORIES:KANT-Öffentlich
END:VEVENT
BEGIN:VEVENT
DTSTART;TZID=Europe/Berlin:20251204T180000
DTEND;TZID=Europe/Berlin:20251204T190000
DTSTAMP:20260423T133520
CREATED:20251007T065419Z
LAST-MODIFIED:20251204T175439Z
UID:10000295-1764871200-1764874800@www.gymnasium-teltow.de
SUMMARY:Elterninformationsabend Ü 7
DESCRIPTION:
URL:https://www.gymnasium-teltow.de/event/elterninformationsabend-ue-7/
LOCATION:Aula
CATEGORIES:KANT-Öffentlich
END:VEVENT
BEGIN:VEVENT
DTSTART;TZID=Europe/Berlin:20251203T150000
DTEND;TZID=Europe/Berlin:20251203T163000
DTSTAMP:20260423T133520
CREATED:20251007T075442Z
LAST-MODIFIED:20251203T152512Z
UID:10000364-1764774000-1764779400@www.gymnasium-teltow.de
SUMMARY:AG: Theater
DESCRIPTION:
URL:https://www.gymnasium-teltow.de/event/ag-theater-9/
LOCATION:Aula
CATEGORIES:KANT-Öffentlich
END:VEVENT
BEGIN:VEVENT
DTSTART;TZID=Europe/Berlin:20251203T150000
DTEND;TZID=Europe/Berlin:20251203T160000
DTSTAMP:20260423T133520
CREATED:20251007T075441Z
LAST-MODIFIED:20251203T143945Z
UID:10000362-1764774000-1764777600@www.gymnasium-teltow.de
SUMMARY:AG: Technik
DESCRIPTION:
URL:https://www.gymnasium-teltow.de/event/ag-technik-5/
LOCATION:Aula
CATEGORIES:KANT-Öffentlich
END:VEVENT
BEGIN:VEVENT
DTSTART;TZID=Europe/Berlin:20251203T133000
DTEND;TZID=Europe/Berlin:20251203T150000
DTSTAMP:20260423T133520
CREATED:20251007T075441Z
LAST-MODIFIED:20251203T133914Z
UID:10000361-1764768600-1764774000@www.gymnasium-teltow.de
SUMMARY:AG: Chor
DESCRIPTION:
URL:https://www.gymnasium-teltow.de/event/ag-chor-9/
LOCATION:Aula
CATEGORIES:KANT-Öffentlich
END:VEVENT
BEGIN:VEVENT
DTSTART;TZID=Europe/Berlin:20251126T150000
DTEND;TZID=Europe/Berlin:20251126T163000
DTSTAMP:20260423T133520
CREATED:20251007T075440Z
LAST-MODIFIED:20251126T150911Z
UID:10000356-1764169200-1764174600@www.gymnasium-teltow.de
SUMMARY:AG: Theater
DESCRIPTION:
URL:https://www.gymnasium-teltow.de/event/ag-theater-8/
LOCATION:Aula
CATEGORIES:KANT-Öffentlich
END:VEVENT
BEGIN:VEVENT
DTSTART;TZID=Europe/Berlin:20251126T133000
DTEND;TZID=Europe/Berlin:20251126T150000
DTSTAMP:20260423T133520
CREATED:20251007T075439Z
LAST-MODIFIED:20251126T135459Z
UID:10000354-1764163800-1764169200@www.gymnasium-teltow.de
SUMMARY:AG: Chor
DESCRIPTION:
URL:https://www.gymnasium-teltow.de/event/ag-chor-8/
LOCATION:Aula
CATEGORIES:KANT-Öffentlich
END:VEVENT
BEGIN:VEVENT
DTSTART;TZID=Europe/Berlin:20251119T150000
DTEND;TZID=Europe/Berlin:20251119T163000
DTSTAMP:20260423T133520
CREATED:20251007T075435Z
LAST-MODIFIED:20251119T152416Z
UID:10000349-1763564400-1763569800@www.gymnasium-teltow.de
SUMMARY:AG: Theater
DESCRIPTION:
URL:https://www.gymnasium-teltow.de/event/ag-theater-7/
LOCATION:Aula
CATEGORIES:KANT-Öffentlich
END:VEVENT
BEGIN:VEVENT
DTSTART;TZID=Europe/Berlin:20251119T150000
DTEND;TZID=Europe/Berlin:20251119T160000
DTSTAMP:20260423T133520
CREATED:20251007T075434Z
LAST-MODIFIED:20251119T143911Z
UID:10000343-1763564400-1763568000@www.gymnasium-teltow.de
SUMMARY:AG: Technik
DESCRIPTION:
URL:https://www.gymnasium-teltow.de/event/ag-technik-4/
LOCATION:Aula
CATEGORIES:KANT-Öffentlich
END:VEVENT
BEGIN:VEVENT
DTSTART;TZID=Europe/Berlin:20251119T133000
DTEND;TZID=Europe/Berlin:20251119T150000
DTSTAMP:20260423T133520
CREATED:20251007T075434Z
LAST-MODIFIED:20251119T133910Z
UID:10000346-1763559000-1763564400@www.gymnasium-teltow.de
SUMMARY:AG: Chor
DESCRIPTION:
URL:https://www.gymnasium-teltow.de/event/ag-chor-7/
LOCATION:Aula
CATEGORIES:KANT-Öffentlich
END:VEVENT
BEGIN:VEVENT
DTSTART;TZID=Europe/Berlin:20251112T163000
DTEND;TZID=Europe/Berlin:20251112T173000
DTSTAMP:20260423T133520
CREATED:20251007T075433Z
LAST-MODIFIED:20251112T162413Z
UID:10000341-1762965000-1762968600@www.gymnasium-teltow.de
SUMMARY:AG: Theater
DESCRIPTION:
URL:https://www.gymnasium-teltow.de/event/ag-theater-6/
LOCATION:Aula
CATEGORIES:KANT-Öffentlich
END:VEVENT
BEGIN:VEVENT
DTSTART;TZID=Europe/Berlin:20251112T133000
DTEND;TZID=Europe/Berlin:20251112T150000
DTSTAMP:20260423T133520
CREATED:20251007T075432Z
LAST-MODIFIED:20251112T135412Z
UID:10000336-1762954200-1762959600@www.gymnasium-teltow.de
SUMMARY:AG: Chor
DESCRIPTION:
URL:https://www.gymnasium-teltow.de/event/ag-chor-6/
LOCATION:Aula
CATEGORIES:KANT-Öffentlich
END:VEVENT
BEGIN:VEVENT
DTSTART;TZID=Europe/Berlin:20251105T163000
DTEND;TZID=Europe/Berlin:20251105T173000
DTSTAMP:20260423T133520
CREATED:20251007T075431Z
LAST-MODIFIED:20251105T160912Z
UID:10000334-1762360200-1762363800@www.gymnasium-teltow.de
SUMMARY:AG: Theater
DESCRIPTION:
URL:https://www.gymnasium-teltow.de/event/ag-theater-5/
LOCATION:Aula
CATEGORIES:KANT-Öffentlich
END:VEVENT
BEGIN:VEVENT
DTSTART;TZID=Europe/Berlin:20251105T150000
DTEND;TZID=Europe/Berlin:20251105T160000
DTSTAMP:20260423T133520
CREATED:20251007T075431Z
LAST-MODIFIED:20251105T145501Z
UID:10000331-1762354800-1762358400@www.gymnasium-teltow.de
SUMMARY:AG: Chor
DESCRIPTION:
URL:https://www.gymnasium-teltow.de/event/ag-chor-5/
LOCATION:Aula
CATEGORIES:KANT-Öffentlich
END:VEVENT
BEGIN:VEVENT
DTSTART;TZID=Europe/Berlin:20251105T150000
DTEND;TZID=Europe/Berlin:20251105T160000
DTSTAMP:20260423T133520
CREATED:20251007T075430Z
LAST-MODIFIED:20251105T145501Z
UID:10000329-1762354800-1762358400@www.gymnasium-teltow.de
SUMMARY:AG: Technik
DESCRIPTION:
URL:https://www.gymnasium-teltow.de/event/ag-technik-3/
LOCATION:Aula
CATEGORIES:KANT-Öffentlich
END:VEVENT
BEGIN:VEVENT
DTSTART;TZID=Europe/Berlin:20251015T180000
DTEND;TZID=Europe/Berlin:20251015T193000
DTSTAMP:20260423T133520
CREATED:20250915T195125Z
LAST-MODIFIED:20251015T172409Z
UID:10000159-1760551200-1760556600@www.gymnasium-teltow.de
SUMMARY:Gesamtelternkonferenz
DESCRIPTION:
URL:https://www.gymnasium-teltow.de/event/gesamtelternkonferenz-3/
LOCATION:Aula
CATEGORIES:KANT-Öffentlich
END:VEVENT
BEGIN:VEVENT
DTSTART;TZID=Europe/Berlin:20251015T163000
DTEND;TZID=Europe/Berlin:20251015T173000
DTSTAMP:20260423T133520
CREATED:20251007T075424Z
LAST-MODIFIED:20251015T150907Z
UID:10000310-1760545800-1760549400@www.gymnasium-teltow.de
SUMMARY:AG: Theater
DESCRIPTION:
URL:https://www.gymnasium-teltow.de/event/ag-theater-2/
LOCATION:Aula
CATEGORIES:KANT-Öffentlich
END:VEVENT
BEGIN:VEVENT
DTSTART;TZID=Europe/Berlin:20251015T150000
DTEND;TZID=Europe/Berlin:20251015T160000
DTSTAMP:20260423T133520
CREATED:20251007T075423Z
LAST-MODIFIED:20251015T132437Z
UID:10000308-1760540400-1760544000@www.gymnasium-teltow.de
SUMMARY:AG: Chor
DESCRIPTION:
URL:https://www.gymnasium-teltow.de/event/ag-chor-2/
LOCATION:Aula
CATEGORIES:KANT-Öffentlich
END:VEVENT
BEGIN:VEVENT
DTSTART;TZID=Europe/Berlin:20251008T163000
DTEND;TZID=Europe/Berlin:20251008T173000
DTSTAMP:20260423T133520
CREATED:20251007T075419Z
LAST-MODIFIED:20251008T150910Z
UID:10000303-1759941000-1759944600@www.gymnasium-teltow.de
SUMMARY:AG: Theater
DESCRIPTION:
URL:https://www.gymnasium-teltow.de/event/ag-theater/
LOCATION:Aula
CATEGORIES:KANT-Öffentlich
END:VEVENT
BEGIN:VEVENT
DTSTART;TZID=Europe/Berlin:20251008T150000
DTEND;TZID=Europe/Berlin:20251008T160000
DTSTAMP:20260423T133520
CREATED:20251007T075418Z
LAST-MODIFIED:20251008T133954Z
UID:10000300-1759935600-1759939200@www.gymnasium-teltow.de
SUMMARY:AG: Chor
DESCRIPTION:
URL:https://www.gymnasium-teltow.de/event/ag-chor/
LOCATION:Aula
CATEGORIES:KANT-Öffentlich
END:VEVENT
BEGIN:VEVENT
DTSTART;TZID=Europe/Berlin:20251008T150000
DTEND;TZID=Europe/Berlin:20251008T160000
DTSTAMP:20260423T133520
CREATED:20251007T075418Z
LAST-MODIFIED:20251008T133954Z
UID:10000301-1759935600-1759939200@www.gymnasium-teltow.de
SUMMARY:AG: Technik
DESCRIPTION:
URL:https://www.gymnasium-teltow.de/event/ag-technik/
LOCATION:Aula
CATEGORIES:KANT-Öffentlich
END:VEVENT
BEGIN:VEVENT
DTSTART;TZID=Europe/Berlin:20251001T092500
DTEND;TZID=Europe/Berlin:20251001T105500
DTSTAMP:20260423T133520
CREATED:20250915T195124Z
LAST-MODIFIED:20251001T085410Z
UID:10000153-1759310700-1759316100@www.gymnasium-teltow.de
SUMMARY:Konferenz der SuS
DESCRIPTION:
URL:https://www.gymnasium-teltow.de/event/konferenz-der-sus/
LOCATION:Aula
CATEGORIES:KANT-Öffentlich
END:VEVENT
BEGIN:VEVENT
DTSTART;TZID=Europe/Berlin:20250922T150000
DTEND;TZID=Europe/Berlin:20250922T160000
DTSTAMP:20260423T133520
CREATED:20250915T195124Z
LAST-MODIFIED:20250922T134315Z
UID:10000148-1758553200-1758556800@www.gymnasium-teltow.de
SUMMARY:Konferenz der Lehrkräfte
DESCRIPTION:
URL:https://www.gymnasium-teltow.de/event/konferenz-der-lehrkraefte/
LOCATION:Aula
CATEGORIES:KANT-Öffentlich
END:VEVENT
END:VCALENDAR