BEGIN:VCALENDAR
VERSION:2.0
PRODID:-//Immanuel-Kant-Gymnasium - ECPv6.15.20//NONSGML v1.0//EN
CALSCALE:GREGORIAN
METHOD:PUBLISH
X-WR-CALNAME:Immanuel-Kant-Gymnasium
X-ORIGINAL-URL:https://www.gymnasium-teltow.de
X-WR-CALDESC:Veranstaltungen für Immanuel-Kant-Gymnasium
REFRESH-INTERVAL;VALUE=DURATION:PT1H
X-Robots-Tag:noindex
X-PUBLISHED-TTL:PT1H
BEGIN:VTIMEZONE
TZID:Europe/Berlin
BEGIN:DAYLIGHT
TZOFFSETFROM:+0100
TZOFFSETTO:+0200
TZNAME:CEST
DTSTART:20240331T010000
END:DAYLIGHT
BEGIN:STANDARD
TZOFFSETFROM:+0200
TZOFFSETTO:+0100
TZNAME:CET
DTSTART:20241027T010000
END:STANDARD
BEGIN:DAYLIGHT
TZOFFSETFROM:+0100
TZOFFSETTO:+0200
TZNAME:CEST
DTSTART:20250330T010000
END:DAYLIGHT
BEGIN:STANDARD
TZOFFSETFROM:+0200
TZOFFSETTO:+0100
TZNAME:CET
DTSTART:20251026T010000
END:STANDARD
BEGIN:DAYLIGHT
TZOFFSETFROM:+0100
TZOFFSETTO:+0200
TZNAME:CEST
DTSTART:20260329T010000
END:DAYLIGHT
BEGIN:STANDARD
TZOFFSETFROM:+0200
TZOFFSETTO:+0100
TZNAME:CET
DTSTART:20261025T010000
END:STANDARD
BEGIN:DAYLIGHT
TZOFFSETFROM:+0100
TZOFFSETTO:+0200
TZNAME:CEST
DTSTART:20270328T010000
END:DAYLIGHT
BEGIN:STANDARD
TZOFFSETFROM:+0200
TZOFFSETTO:+0100
TZNAME:CET
DTSTART:20271031T010000
END:STANDARD
END:VTIMEZONE
BEGIN:VEVENT
DTSTART;TZID=Europe/Berlin:20260204T133000
DTEND;TZID=Europe/Berlin:20260204T150000
DTSTAMP:20260421T100932
CREATED:20251007T075511Z
LAST-MODIFIED:20260202T185418Z
UID:10000429-1770211800-1770217200@www.gymnasium-teltow.de
SUMMARY:AG: Chor
DESCRIPTION:
URL:https://www.gymnasium-teltow.de/event/ag-chor-18/
LOCATION:Aula
CATEGORIES:KANT-Öffentlich
END:VEVENT
BEGIN:VEVENT
DTSTART;TZID=Europe/Berlin:20260128T150000
DTEND;TZID=Europe/Berlin:20260128T163000
DTSTAMP:20260421T100932
CREATED:20251007T075509Z
LAST-MODIFIED:20260128T152410Z
UID:10000424-1769612400-1769617800@www.gymnasium-teltow.de
SUMMARY:AG: Theater
DESCRIPTION:
URL:https://www.gymnasium-teltow.de/event/ag-theater-17/
LOCATION:Aula
CATEGORIES:KANT-Öffentlich
END:VEVENT
BEGIN:VEVENT
DTSTART;TZID=Europe/Berlin:20260128T150000
DTEND;TZID=Europe/Berlin:20260128T160000
DTSTAMP:20260421T100932
CREATED:20251007T075507Z
LAST-MODIFIED:20260128T145413Z
UID:10000419-1769612400-1769616000@www.gymnasium-teltow.de
SUMMARY:AG: Technik
DESCRIPTION:
URL:https://www.gymnasium-teltow.de/event/ag-technik-9/
LOCATION:Aula
CATEGORIES:KANT-Öffentlich
END:VEVENT
BEGIN:VEVENT
DTSTART;TZID=Europe/Berlin:20260128T133000
DTEND;TZID=Europe/Berlin:20260128T150000
DTSTAMP:20260421T100932
CREATED:20251007T075506Z
LAST-MODIFIED:20260128T135413Z
UID:10000418-1769607000-1769612400@www.gymnasium-teltow.de
SUMMARY:AG: Chor
DESCRIPTION:
URL:https://www.gymnasium-teltow.de/event/ag-chor-17/
LOCATION:Aula
CATEGORIES:KANT-Öffentlich
END:VEVENT
BEGIN:VEVENT
DTSTART;TZID=Europe/Berlin:20260121T150000
DTEND;TZID=Europe/Berlin:20260121T163000
DTSTAMP:20260421T100932
CREATED:20251007T075506Z
LAST-MODIFIED:20260121T150948Z
UID:10000416-1769007600-1769013000@www.gymnasium-teltow.de
SUMMARY:AG: Theater
DESCRIPTION:
URL:https://www.gymnasium-teltow.de/event/ag-theater-16/
LOCATION:Aula
CATEGORIES:KANT-Öffentlich
END:VEVENT
BEGIN:VEVENT
DTSTART;TZID=Europe/Berlin:20260121T133000
DTEND;TZID=Europe/Berlin:20260121T150000
DTSTAMP:20260421T100932
CREATED:20251007T075504Z
LAST-MODIFIED:20260121T132701Z
UID:10000411-1769002200-1769007600@www.gymnasium-teltow.de
SUMMARY:AG: Chor
DESCRIPTION:
URL:https://www.gymnasium-teltow.de/event/ag-chor-16/
LOCATION:Aula
CATEGORIES:KANT-Öffentlich
END:VEVENT
BEGIN:VEVENT
DTSTART;TZID=Europe/Berlin:20260114T150000
DTEND;TZID=Europe/Berlin:20260114T163000
DTSTAMP:20260421T100932
CREATED:20251007T075502Z
LAST-MODIFIED:20260114T152413Z
UID:10000409-1768402800-1768408200@www.gymnasium-teltow.de
SUMMARY:AG: Theater
DESCRIPTION:
URL:https://www.gymnasium-teltow.de/event/ag-theater-15/
LOCATION:Aula
CATEGORIES:KANT-Öffentlich
END:VEVENT
BEGIN:VEVENT
DTSTART;TZID=Europe/Berlin:20260114T150000
DTEND;TZID=Europe/Berlin:20260114T160000
DTSTAMP:20260421T100932
CREATED:20251007T075457Z
LAST-MODIFIED:20260114T145424Z
UID:10000407-1768402800-1768406400@www.gymnasium-teltow.de
SUMMARY:AG: Technik
DESCRIPTION:
URL:https://www.gymnasium-teltow.de/event/ag-technik-8/
LOCATION:Aula
CATEGORIES:KANT-Öffentlich
END:VEVENT
BEGIN:VEVENT
DTSTART;TZID=Europe/Berlin:20260114T133000
DTEND;TZID=Europe/Berlin:20260114T150000
DTSTAMP:20260421T100932
CREATED:20251007T075457Z
LAST-MODIFIED:20260114T135412Z
UID:10000406-1768397400-1768402800@www.gymnasium-teltow.de
SUMMARY:AG: Chor
DESCRIPTION:
URL:https://www.gymnasium-teltow.de/event/ag-chor-15/
LOCATION:Aula
CATEGORIES:KANT-Öffentlich
END:VEVENT
BEGIN:VEVENT
DTSTART;TZID=Europe/Berlin:20260107T150000
DTEND;TZID=Europe/Berlin:20260107T163000
DTSTAMP:20260421T100932
CREATED:20251007T075454Z
LAST-MODIFIED:20260107T152410Z
UID:10000401-1767798000-1767803400@www.gymnasium-teltow.de
SUMMARY:AG: Theater
DESCRIPTION:
URL:https://www.gymnasium-teltow.de/event/ag-theater-14/
LOCATION:Aula
CATEGORIES:KANT-Öffentlich
END:VEVENT
BEGIN:VEVENT
DTSTART;TZID=Europe/Berlin:20260107T133000
DTEND;TZID=Europe/Berlin:20260107T150000
DTSTAMP:20260421T100932
CREATED:20251007T075454Z
LAST-MODIFIED:20260107T133916Z
UID:10000399-1767792600-1767798000@www.gymnasium-teltow.de
SUMMARY:AG: Chor
DESCRIPTION:
URL:https://www.gymnasium-teltow.de/event/ag-chor-14/
LOCATION:Aula
CATEGORIES:KANT-Öffentlich
END:VEVENT
BEGIN:VEVENT
DTSTART;TZID=Europe/Berlin:20251231T163000
DTEND;TZID=Europe/Berlin:20251231T173000
DTSTAMP:20260421T100932
CREATED:20251007T075453Z
LAST-MODIFIED:20251104T062424Z
UID:10000394-1767198600-1767202200@www.gymnasium-teltow.de
SUMMARY:AG: Theater
DESCRIPTION:
URL:https://www.gymnasium-teltow.de/event/ag-theater-13/
LOCATION:Aula
CATEGORIES:KANT-Öffentlich
END:VEVENT
BEGIN:VEVENT
DTSTART;TZID=Europe/Berlin:20251231T150000
DTEND;TZID=Europe/Berlin:20251231T160000
DTSTAMP:20260421T100932
CREATED:20251007T075452Z
LAST-MODIFIED:20251104T062424Z
UID:10000390-1767193200-1767196800@www.gymnasium-teltow.de
SUMMARY:AG: Chor
DESCRIPTION:
URL:https://www.gymnasium-teltow.de/event/ag-chor-13/
LOCATION:Aula
CATEGORIES:KANT-Öffentlich
END:VEVENT
BEGIN:VEVENT
DTSTART;TZID=Europe/Berlin:20251231T150000
DTEND;TZID=Europe/Berlin:20251231T160000
DTSTAMP:20260421T100932
CREATED:20251007T075451Z
LAST-MODIFIED:20251104T062424Z
UID:10000389-1767193200-1767196800@www.gymnasium-teltow.de
SUMMARY:AG: Technik
DESCRIPTION:
URL:https://www.gymnasium-teltow.de/event/ag-technik-7/
LOCATION:Aula
CATEGORIES:KANT-Öffentlich
END:VEVENT
BEGIN:VEVENT
DTSTART;TZID=Europe/Berlin:20251224T150000
DTEND;TZID=Europe/Berlin:20251224T163000
DTSTAMP:20260421T100932
CREATED:20251007T075450Z
LAST-MODIFIED:20251221T172419Z
UID:10000386-1766588400-1766593800@www.gymnasium-teltow.de
SUMMARY:AG: Theater
DESCRIPTION:
URL:https://www.gymnasium-teltow.de/event/ag-theater-12/
LOCATION:Aula
CATEGORIES:KANT-Öffentlich
END:VEVENT
BEGIN:VEVENT
DTSTART;TZID=Europe/Berlin:20251224T133000
DTEND;TZID=Europe/Berlin:20251224T150000
DTSTAMP:20260421T100932
CREATED:20251007T075449Z
LAST-MODIFIED:20251221T172418Z
UID:10000384-1766583000-1766588400@www.gymnasium-teltow.de
SUMMARY:AG: Chor
DESCRIPTION:
URL:https://www.gymnasium-teltow.de/event/ag-chor-12/
LOCATION:Aula
CATEGORIES:KANT-Öffentlich
END:VEVENT
BEGIN:VEVENT
DTSTART;TZID=Europe/Berlin:20251217T150000
DTEND;TZID=Europe/Berlin:20251217T163000
DTSTAMP:20260421T100932
CREATED:20251007T075445Z
LAST-MODIFIED:20251217T145416Z
UID:10000374-1765983600-1765989000@www.gymnasium-teltow.de
SUMMARY:AG: Theater
DESCRIPTION:
URL:https://www.gymnasium-teltow.de/event/ag-theater-11/
LOCATION:Aula
CATEGORIES:KANT-Öffentlich
END:VEVENT
BEGIN:VEVENT
DTSTART;TZID=Europe/Berlin:20251217T150000
DTEND;TZID=Europe/Berlin:20251217T160000
DTSTAMP:20260421T100932
CREATED:20251007T075446Z
LAST-MODIFIED:20251217T145417Z
UID:10000375-1765983600-1765987200@www.gymnasium-teltow.de
SUMMARY:AG: Technik
DESCRIPTION:
URL:https://www.gymnasium-teltow.de/event/ag-technik-6/
LOCATION:Aula
CATEGORIES:KANT-Öffentlich
END:VEVENT
BEGIN:VEVENT
DTSTART;TZID=Europe/Berlin:20251217T133000
DTEND;TZID=Europe/Berlin:20251217T150000
DTSTAMP:20260421T100932
CREATED:20251007T075447Z
LAST-MODIFIED:20251217T133917Z
UID:10000379-1765978200-1765983600@www.gymnasium-teltow.de
SUMMARY:AG: Chor
DESCRIPTION:
URL:https://www.gymnasium-teltow.de/event/ag-chor-11/
LOCATION:Aula
CATEGORIES:KANT-Öffentlich
END:VEVENT
BEGIN:VEVENT
DTSTART;TZID=Europe/Berlin:20251215T141500
DTEND;TZID=Europe/Berlin:20251215T153000
DTSTAMP:20260421T100932
CREATED:20251030T090931Z
LAST-MODIFIED:20251215T142428Z
UID:10000658-1765808100-1765812600@www.gymnasium-teltow.de
SUMMARY:KdL
DESCRIPTION:
URL:https://www.gymnasium-teltow.de/event/kdl-ggf-frueherer-start/
LOCATION:Aula
CATEGORIES:KANT-Öffentlich
END:VEVENT
BEGIN:VEVENT
DTSTART;TZID=Europe/Berlin:20251210T150000
DTEND;TZID=Europe/Berlin:20251210T163000
DTSTAMP:20260421T100932
CREATED:20251007T075444Z
LAST-MODIFIED:20251210T150920Z
UID:10000371-1765378800-1765384200@www.gymnasium-teltow.de
SUMMARY:AG: Theater
DESCRIPTION:
URL:https://www.gymnasium-teltow.de/event/ag-theater-10/
LOCATION:Aula
CATEGORIES:KANT-Öffentlich
END:VEVENT
BEGIN:VEVENT
DTSTART;TZID=Europe/Berlin:20251210T133000
DTEND;TZID=Europe/Berlin:20251210T150000
DTSTAMP:20260421T100932
CREATED:20251007T075443Z
LAST-MODIFIED:20251210T135457Z
UID:10000366-1765373400-1765378800@www.gymnasium-teltow.de
SUMMARY:AG: Chor
DESCRIPTION:
URL:https://www.gymnasium-teltow.de/event/ag-chor-10/
LOCATION:Aula
CATEGORIES:KANT-Öffentlich
END:VEVENT
BEGIN:VEVENT
DTSTART;TZID=Europe/Berlin:20251204T180000
DTEND;TZID=Europe/Berlin:20251204T190000
DTSTAMP:20260421T100932
CREATED:20251007T065419Z
LAST-MODIFIED:20251204T175439Z
UID:10000295-1764871200-1764874800@www.gymnasium-teltow.de
SUMMARY:Elterninformationsabend Ü 7
DESCRIPTION:
URL:https://www.gymnasium-teltow.de/event/elterninformationsabend-ue-7/
LOCATION:Aula
CATEGORIES:KANT-Öffentlich
END:VEVENT
BEGIN:VEVENT
DTSTART;TZID=Europe/Berlin:20251203T150000
DTEND;TZID=Europe/Berlin:20251203T163000
DTSTAMP:20260421T100932
CREATED:20251007T075442Z
LAST-MODIFIED:20251203T152512Z
UID:10000364-1764774000-1764779400@www.gymnasium-teltow.de
SUMMARY:AG: Theater
DESCRIPTION:
URL:https://www.gymnasium-teltow.de/event/ag-theater-9/
LOCATION:Aula
CATEGORIES:KANT-Öffentlich
END:VEVENT
BEGIN:VEVENT
DTSTART;TZID=Europe/Berlin:20251203T150000
DTEND;TZID=Europe/Berlin:20251203T160000
DTSTAMP:20260421T100932
CREATED:20251007T075441Z
LAST-MODIFIED:20251203T143945Z
UID:10000362-1764774000-1764777600@www.gymnasium-teltow.de
SUMMARY:AG: Technik
DESCRIPTION:
URL:https://www.gymnasium-teltow.de/event/ag-technik-5/
LOCATION:Aula
CATEGORIES:KANT-Öffentlich
END:VEVENT
BEGIN:VEVENT
DTSTART;TZID=Europe/Berlin:20251203T133000
DTEND;TZID=Europe/Berlin:20251203T150000
DTSTAMP:20260421T100932
CREATED:20251007T075441Z
LAST-MODIFIED:20251203T133914Z
UID:10000361-1764768600-1764774000@www.gymnasium-teltow.de
SUMMARY:AG: Chor
DESCRIPTION:
URL:https://www.gymnasium-teltow.de/event/ag-chor-9/
LOCATION:Aula
CATEGORIES:KANT-Öffentlich
END:VEVENT
BEGIN:VEVENT
DTSTART;TZID=Europe/Berlin:20251126T150000
DTEND;TZID=Europe/Berlin:20251126T163000
DTSTAMP:20260421T100932
CREATED:20251007T075440Z
LAST-MODIFIED:20251126T150911Z
UID:10000356-1764169200-1764174600@www.gymnasium-teltow.de
SUMMARY:AG: Theater
DESCRIPTION:
URL:https://www.gymnasium-teltow.de/event/ag-theater-8/
LOCATION:Aula
CATEGORIES:KANT-Öffentlich
END:VEVENT
BEGIN:VEVENT
DTSTART;TZID=Europe/Berlin:20251126T133000
DTEND;TZID=Europe/Berlin:20251126T150000
DTSTAMP:20260421T100932
CREATED:20251007T075439Z
LAST-MODIFIED:20251126T135459Z
UID:10000354-1764163800-1764169200@www.gymnasium-teltow.de
SUMMARY:AG: Chor
DESCRIPTION:
URL:https://www.gymnasium-teltow.de/event/ag-chor-8/
LOCATION:Aula
CATEGORIES:KANT-Öffentlich
END:VEVENT
BEGIN:VEVENT
DTSTART;TZID=Europe/Berlin:20251119T150000
DTEND;TZID=Europe/Berlin:20251119T163000
DTSTAMP:20260421T100932
CREATED:20251007T075435Z
LAST-MODIFIED:20251119T152416Z
UID:10000349-1763564400-1763569800@www.gymnasium-teltow.de
SUMMARY:AG: Theater
DESCRIPTION:
URL:https://www.gymnasium-teltow.de/event/ag-theater-7/
LOCATION:Aula
CATEGORIES:KANT-Öffentlich
END:VEVENT
BEGIN:VEVENT
DTSTART;TZID=Europe/Berlin:20251119T150000
DTEND;TZID=Europe/Berlin:20251119T160000
DTSTAMP:20260421T100932
CREATED:20251007T075434Z
LAST-MODIFIED:20251119T143911Z
UID:10000343-1763564400-1763568000@www.gymnasium-teltow.de
SUMMARY:AG: Technik
DESCRIPTION:
URL:https://www.gymnasium-teltow.de/event/ag-technik-4/
LOCATION:Aula
CATEGORIES:KANT-Öffentlich
END:VEVENT
END:VCALENDAR