BEGIN:VCALENDAR
VERSION:2.0
PRODID:-//Immanuel-Kant-Gymnasium - ECPv6.15.20//NONSGML v1.0//EN
CALSCALE:GREGORIAN
METHOD:PUBLISH
X-ORIGINAL-URL:https://www.gymnasium-teltow.de
X-WR-CALDESC:Veranstaltungen für Immanuel-Kant-Gymnasium
REFRESH-INTERVAL;VALUE=DURATION:PT1H
X-Robots-Tag:noindex
X-PUBLISHED-TTL:PT1H
BEGIN:VTIMEZONE
TZID:Europe/Berlin
BEGIN:DAYLIGHT
TZOFFSETFROM:+0100
TZOFFSETTO:+0200
TZNAME:CEST
DTSTART:20250330T010000
END:DAYLIGHT
BEGIN:STANDARD
TZOFFSETFROM:+0200
TZOFFSETTO:+0100
TZNAME:CET
DTSTART:20251026T010000
END:STANDARD
BEGIN:DAYLIGHT
TZOFFSETFROM:+0100
TZOFFSETTO:+0200
TZNAME:CEST
DTSTART:20260329T010000
END:DAYLIGHT
BEGIN:STANDARD
TZOFFSETFROM:+0200
TZOFFSETTO:+0100
TZNAME:CET
DTSTART:20261025T010000
END:STANDARD
BEGIN:DAYLIGHT
TZOFFSETFROM:+0100
TZOFFSETTO:+0200
TZNAME:CEST
DTSTART:20270328T010000
END:DAYLIGHT
BEGIN:STANDARD
TZOFFSETFROM:+0200
TZOFFSETTO:+0100
TZNAME:CET
DTSTART:20271031T010000
END:STANDARD
END:VTIMEZONE
BEGIN:VEVENT
DTSTART;TZID=Europe/Berlin:20260603T133000
DTEND;TZID=Europe/Berlin:20260603T150000
DTSTAMP:20260423T120313
CREATED:20251020T192511Z
LAST-MODIFIED:20260412T212431Z
UID:10000600-1780493400-1780498800@www.gymnasium-teltow.de
SUMMARY:AG: Chor
DESCRIPTION:
URL:https://www.gymnasium-teltow.de/event/ag-chor-35/
LOCATION:Aula
CATEGORIES:KANT-Öffentlich
END:VEVENT
BEGIN:VEVENT
DTSTART;TZID=Europe/Berlin:20260603T150000
DTEND;TZID=Europe/Berlin:20260603T160000
DTSTAMP:20260423T120313
CREATED:20251020T192511Z
LAST-MODIFIED:20260412T212432Z
UID:10000597-1780498800-1780502400@www.gymnasium-teltow.de
SUMMARY:AG: Technik
DESCRIPTION:
URL:https://www.gymnasium-teltow.de/event/ag-technik-18/
LOCATION:Aula
CATEGORIES:KANT-Öffentlich
END:VEVENT
BEGIN:VEVENT
DTSTART;TZID=Europe/Berlin:20260603T150000
DTEND;TZID=Europe/Berlin:20260603T163000
DTSTAMP:20260423T120313
CREATED:20251020T192512Z
LAST-MODIFIED:20260412T212431Z
UID:10000603-1780498800-1780504200@www.gymnasium-teltow.de
SUMMARY:AG: Theater
DESCRIPTION:
URL:https://www.gymnasium-teltow.de/event/ag-theater-35/
LOCATION:Aula
CATEGORIES:KANT-Öffentlich
END:VEVENT
BEGIN:VEVENT
DTSTART;TZID=Europe/Berlin:20260610T133000
DTEND;TZID=Europe/Berlin:20260610T150000
DTSTAMP:20260423T120313
CREATED:20251020T192514Z
LAST-MODIFIED:20260412T212433Z
UID:10000610-1781098200-1781103600@www.gymnasium-teltow.de
SUMMARY:AG: Chor
DESCRIPTION:
URL:https://www.gymnasium-teltow.de/event/ag-chor-36/
LOCATION:Aula
CATEGORIES:KANT-Öffentlich
END:VEVENT
BEGIN:VEVENT
DTSTART;TZID=Europe/Berlin:20260610T150000
DTEND;TZID=Europe/Berlin:20260610T163000
DTSTAMP:20260423T120313
CREATED:20251020T192514Z
LAST-MODIFIED:20260412T212433Z
UID:10000613-1781103600-1781109000@www.gymnasium-teltow.de
SUMMARY:AG: Theater
DESCRIPTION:
URL:https://www.gymnasium-teltow.de/event/ag-theater-36/
LOCATION:Aula
CATEGORIES:KANT-Öffentlich
END:VEVENT
BEGIN:VEVENT
DTSTART;TZID=Europe/Berlin:20260617T133000
DTEND;TZID=Europe/Berlin:20260617T150000
DTSTAMP:20260423T120313
CREATED:20251020T192518Z
LAST-MODIFIED:20260412T212434Z
UID:10000618-1781703000-1781708400@www.gymnasium-teltow.de
SUMMARY:AG: Chor
DESCRIPTION:
URL:https://www.gymnasium-teltow.de/event/ag-chor-37/
LOCATION:Aula
CATEGORIES:KANT-Öffentlich
END:VEVENT
BEGIN:VEVENT
DTSTART;TZID=Europe/Berlin:20260617T150000
DTEND;TZID=Europe/Berlin:20260617T160000
DTSTAMP:20260423T120313
CREATED:20251020T192518Z
LAST-MODIFIED:20260412T212434Z
UID:10000619-1781708400-1781712000@www.gymnasium-teltow.de
SUMMARY:AG: Technik
DESCRIPTION:
URL:https://www.gymnasium-teltow.de/event/ag-technik-19/
LOCATION:Aula
CATEGORIES:KANT-Öffentlich
END:VEVENT
BEGIN:VEVENT
DTSTART;TZID=Europe/Berlin:20260617T150000
DTEND;TZID=Europe/Berlin:20260617T163000
DTSTAMP:20260423T120313
CREATED:20251020T192519Z
LAST-MODIFIED:20260412T212434Z
UID:10000621-1781708400-1781713800@www.gymnasium-teltow.de
SUMMARY:AG: Theater
DESCRIPTION:
URL:https://www.gymnasium-teltow.de/event/ag-theater-37/
LOCATION:Aula
CATEGORIES:KANT-Öffentlich
END:VEVENT
BEGIN:VEVENT
DTSTART;TZID=Europe/Berlin:20260624T133000
DTEND;TZID=Europe/Berlin:20260624T150000
DTSTAMP:20260423T120313
CREATED:20251020T192520Z
LAST-MODIFIED:20260412T212435Z
UID:10000627-1782307800-1782313200@www.gymnasium-teltow.de
SUMMARY:AG: Chor
DESCRIPTION:
URL:https://www.gymnasium-teltow.de/event/ag-chor-38/
LOCATION:Aula
CATEGORIES:KANT-Öffentlich
END:VEVENT
BEGIN:VEVENT
DTSTART;TZID=Europe/Berlin:20260624T150000
DTEND;TZID=Europe/Berlin:20260624T163000
DTSTAMP:20260423T120313
CREATED:20251020T192521Z
LAST-MODIFIED:20260412T212435Z
UID:10000629-1782313200-1782318600@www.gymnasium-teltow.de
SUMMARY:AG: Theater
DESCRIPTION:
URL:https://www.gymnasium-teltow.de/event/ag-theater-38/
LOCATION:Aula
CATEGORIES:KANT-Öffentlich
END:VEVENT
BEGIN:VEVENT
DTSTART;TZID=Europe/Berlin:20260701T133000
DTEND;TZID=Europe/Berlin:20260701T150000
DTSTAMP:20260423T120313
CREATED:20251020T192522Z
LAST-MODIFIED:20260412T212436Z
UID:10000632-1782912600-1782918000@www.gymnasium-teltow.de
SUMMARY:AG: Chor
DESCRIPTION:
URL:https://www.gymnasium-teltow.de/event/ag-chor-39/
LOCATION:Aula
CATEGORIES:KANT-Öffentlich
END:VEVENT
BEGIN:VEVENT
DTSTART;TZID=Europe/Berlin:20260701T150000
DTEND;TZID=Europe/Berlin:20260701T160000
DTSTAMP:20260423T120313
CREATED:20251020T192522Z
LAST-MODIFIED:20260412T212436Z
UID:10000633-1782918000-1782921600@www.gymnasium-teltow.de
SUMMARY:AG: Technik
DESCRIPTION:
URL:https://www.gymnasium-teltow.de/event/ag-technik-20/
LOCATION:Aula
CATEGORIES:KANT-Öffentlich
END:VEVENT
BEGIN:VEVENT
DTSTART;TZID=Europe/Berlin:20260701T150000
DTEND;TZID=Europe/Berlin:20260701T163000
DTSTAMP:20260423T120313
CREATED:20251020T192524Z
LAST-MODIFIED:20260412T212436Z
UID:10000638-1782918000-1782923400@www.gymnasium-teltow.de
SUMMARY:AG: Theater
DESCRIPTION:
URL:https://www.gymnasium-teltow.de/event/ag-theater-39/
LOCATION:Aula
CATEGORIES:KANT-Öffentlich
END:VEVENT
BEGIN:VEVENT
DTSTART;TZID=Europe/Berlin:20260708T133000
DTEND;TZID=Europe/Berlin:20260708T150000
DTSTAMP:20260423T120313
CREATED:20251020T192525Z
LAST-MODIFIED:20260412T212437Z
UID:10000643-1783517400-1783522800@www.gymnasium-teltow.de
SUMMARY:AG: Chor
DESCRIPTION:
URL:https://www.gymnasium-teltow.de/event/ag-chor-40/
LOCATION:Aula
CATEGORIES:KANT-Öffentlich
END:VEVENT
BEGIN:VEVENT
DTSTART;TZID=Europe/Berlin:20260708T150000
DTEND;TZID=Europe/Berlin:20260708T163000
DTSTAMP:20260423T120313
CREATED:20251020T192525Z
LAST-MODIFIED:20260412T212437Z
UID:10000642-1783522800-1783528200@www.gymnasium-teltow.de
SUMMARY:AG: Theater
DESCRIPTION:
URL:https://www.gymnasium-teltow.de/event/ag-theater-40/
LOCATION:Aula
CATEGORIES:KANT-Öffentlich
END:VEVENT
BEGIN:VEVENT
DTSTART;TZID=Europe/Berlin:20260715T133000
DTEND;TZID=Europe/Berlin:20260715T150000
DTSTAMP:20260423T120313
CREATED:20251020T192527Z
LAST-MODIFIED:20260412T212438Z
UID:10000649-1784122200-1784127600@www.gymnasium-teltow.de
SUMMARY:AG: Chor
DESCRIPTION:
URL:https://www.gymnasium-teltow.de/event/ag-chor-41/
LOCATION:Aula
CATEGORIES:KANT-Öffentlich
END:VEVENT
BEGIN:VEVENT
DTSTART;TZID=Europe/Berlin:20260715T150000
DTEND;TZID=Europe/Berlin:20260715T160000
DTSTAMP:20260423T120313
CREATED:20251020T192527Z
LAST-MODIFIED:20260412T212438Z
UID:10000650-1784127600-1784131200@www.gymnasium-teltow.de
SUMMARY:AG: Technik
DESCRIPTION:
URL:https://www.gymnasium-teltow.de/event/ag-technik-21/
LOCATION:Aula
CATEGORIES:KANT-Öffentlich
END:VEVENT
BEGIN:VEVENT
DTSTART;TZID=Europe/Berlin:20260722T133000
DTEND;TZID=Europe/Berlin:20260722T150000
DTSTAMP:20260423T120313
CREATED:20251020T192528Z
LAST-MODIFIED:20260412T212439Z
UID:10000654-1784727000-1784732400@www.gymnasium-teltow.de
SUMMARY:AG: Chor
DESCRIPTION:
URL:https://www.gymnasium-teltow.de/event/ag-chor-42/
LOCATION:Aula
CATEGORIES:KANT-Öffentlich
END:VEVENT
END:VCALENDAR