BEGIN:VCALENDAR
VERSION:2.0
PRODID:-//Immanuel-Kant-Gymnasium - ECPv6.15.20//NONSGML v1.0//EN
CALSCALE:GREGORIAN
METHOD:PUBLISH
X-ORIGINAL-URL:https://www.gymnasium-teltow.de
X-WR-CALDESC:Veranstaltungen für Immanuel-Kant-Gymnasium
REFRESH-INTERVAL;VALUE=DURATION:PT1H
X-Robots-Tag:noindex
X-PUBLISHED-TTL:PT1H
BEGIN:VTIMEZONE
TZID:Europe/Berlin
BEGIN:DAYLIGHT
TZOFFSETFROM:+0100
TZOFFSETTO:+0200
TZNAME:CEST
DTSTART:20250330T010000
END:DAYLIGHT
BEGIN:STANDARD
TZOFFSETFROM:+0200
TZOFFSETTO:+0100
TZNAME:CET
DTSTART:20251026T010000
END:STANDARD
BEGIN:DAYLIGHT
TZOFFSETFROM:+0100
TZOFFSETTO:+0200
TZNAME:CEST
DTSTART:20260329T010000
END:DAYLIGHT
BEGIN:STANDARD
TZOFFSETFROM:+0200
TZOFFSETTO:+0100
TZNAME:CET
DTSTART:20261025T010000
END:STANDARD
BEGIN:DAYLIGHT
TZOFFSETFROM:+0100
TZOFFSETTO:+0200
TZNAME:CEST
DTSTART:20270328T010000
END:DAYLIGHT
BEGIN:STANDARD
TZOFFSETFROM:+0200
TZOFFSETTO:+0100
TZNAME:CET
DTSTART:20271031T010000
END:STANDARD
END:VTIMEZONE
BEGIN:VEVENT
DTSTART;TZID=Europe/Berlin:20260519T150000
DTEND;TZID=Europe/Berlin:20260519T163000
DTSTAMP:20260424T151811
CREATED:20251020T192507Z
LAST-MODIFIED:20251221T172452Z
UID:10000587-1779202800-1779208200@www.gymnasium-teltow.de
SUMMARY:Lehrkräfte-Chor
DESCRIPTION:
URL:https://www.gymnasium-teltow.de/event/lehrkraefte-chor-17/
CATEGORIES:KANT-Öffentlich
END:VEVENT
BEGIN:VEVENT
DTSTART;VALUE=DATE:20260520
DTEND;VALUE=DATE:20260522
DTSTAMP:20260424T151811
CREATED:20251020T192503Z
LAST-MODIFIED:20260412T212429Z
UID:10000572-1779242400-1779328799@www.gymnasium-teltow.de
SUMMARY:Mündliche Abiturprüfungen
DESCRIPTION:
URL:https://www.gymnasium-teltow.de/event/muendliche-abiturpruefungen/
CATEGORIES:KANT-Öffentlich
END:VEVENT
BEGIN:VEVENT
DTSTART;TZID=Europe/Berlin:20260520T133000
DTEND;TZID=Europe/Berlin:20260520T150000
DTSTAMP:20260424T151811
CREATED:20251020T192503Z
LAST-MODIFIED:20260412T212429Z
UID:10000576-1779283800-1779289200@www.gymnasium-teltow.de
SUMMARY:AG: Ab ins Beet
DESCRIPTION:
URL:https://www.gymnasium-teltow.de/event/ag-ab-ins-beet-34/
LOCATION:1.02
CATEGORIES:KANT-Öffentlich
END:VEVENT
BEGIN:VEVENT
DTSTART;TZID=Europe/Berlin:20260520T133000
DTEND;TZID=Europe/Berlin:20260520T150000
DTSTAMP:20260424T151811
CREATED:20251020T192504Z
LAST-MODIFIED:20260412T212429Z
UID:10000577-1779283800-1779289200@www.gymnasium-teltow.de
SUMMARY:AG: Bienen
DESCRIPTION:
URL:https://www.gymnasium-teltow.de/event/ag-bienen-33/
LOCATION:1.12
CATEGORIES:KANT-Öffentlich
END:VEVENT
BEGIN:VEVENT
DTSTART;TZID=Europe/Berlin:20260520T133000
DTEND;TZID=Europe/Berlin:20260520T150000
DTSTAMP:20260424T151811
CREATED:20251020T192504Z
LAST-MODIFIED:20260412T212429Z
UID:10000578-1779283800-1779289200@www.gymnasium-teltow.de
SUMMARY:AG: Jahrbuch
DESCRIPTION:Treffen nach Absprache
URL:https://www.gymnasium-teltow.de/event/ag-jahrbuch-33/
CATEGORIES:KANT-Öffentlich
END:VEVENT
BEGIN:VEVENT
DTSTART;TZID=Europe/Berlin:20260520T133000
DTEND;TZID=Europe/Berlin:20260520T150000
DTSTAMP:20260424T151811
CREATED:20251020T192504Z
LAST-MODIFIED:20260412T212429Z
UID:10000579-1779283800-1779289200@www.gymnasium-teltow.de
SUMMARY:AG: Chor
DESCRIPTION:
URL:https://www.gymnasium-teltow.de/event/ag-chor-33/
LOCATION:Aula
CATEGORIES:KANT-Öffentlich
END:VEVENT
BEGIN:VEVENT
DTSTART;TZID=Europe/Berlin:20260520T133000
DTEND;TZID=Europe/Berlin:20260520T150000
DTSTAMP:20260424T151811
CREATED:20251020T192505Z
LAST-MODIFIED:20260412T212428Z
UID:10000581-1779283800-1779289200@www.gymnasium-teltow.de
SUMMARY:AG: Pontes
DESCRIPTION:
URL:https://www.gymnasium-teltow.de/event/ag-pontes-33/
LOCATION:2.02
CATEGORIES:KANT-Öffentlich
END:VEVENT
BEGIN:VEVENT
DTSTART;TZID=Europe/Berlin:20260520T150000
DTEND;TZID=Europe/Berlin:20260520T160000
DTSTAMP:20260424T151811
CREATED:20251020T192504Z
LAST-MODIFIED:20260412T212428Z
UID:10000580-1779289200-1779292800@www.gymnasium-teltow.de
SUMMARY:AG: Technik
DESCRIPTION:
URL:https://www.gymnasium-teltow.de/event/ag-technik-17/
LOCATION:Aula
CATEGORIES:KANT-Öffentlich
END:VEVENT
BEGIN:VEVENT
DTSTART;TZID=Europe/Berlin:20260520T150000
DTEND;TZID=Europe/Berlin:20260520T163000
DTSTAMP:20260424T151811
CREATED:20251020T192505Z
LAST-MODIFIED:20260412T212429Z
UID:10000582-1779289200-1779294600@www.gymnasium-teltow.de
SUMMARY:AG: Theater
DESCRIPTION:
URL:https://www.gymnasium-teltow.de/event/ag-theater-33/
LOCATION:Aula
CATEGORIES:KANT-Öffentlich
END:VEVENT
BEGIN:VEVENT
DTSTART;TZID=Europe/Berlin:20260520T151500
DTEND;TZID=Europe/Berlin:20260520T163000
DTSTAMP:20260424T151811
CREATED:20250915T202429Z
LAST-MODIFIED:20260412T212429Z
UID:10000217-1779290100-1779294600@www.gymnasium-teltow.de
SUMMARY:Bewegungskampagne für Mädchen: Floorball
DESCRIPTION:Schul-AG für Mädchen zur sportlichen Entwicklung koordinativer Fähigkeiten mit Hilfe der Sportart Floorball
URL:https://www.gymnasium-teltow.de/event/bewegungskampagne-fuer-maedchen-floorball-62/
LOCATION:Turnhalle des Immanuel-Kant-Gymnasiums Teltow
CATEGORIES:KANT-Öffentlich
END:VEVENT
BEGIN:VEVENT
DTSTART;VALUE=DATE:20260521
DTEND;VALUE=DATE:20260523
DTSTAMP:20260424T151811
CREATED:20251020T192506Z
LAST-MODIFIED:20260412T212429Z
UID:10000585-1779328800-1779415199@www.gymnasium-teltow.de
SUMMARY:Nachprüfung alle schriftlichen Abiturprüfungsfächer Grundkurs (ausgenommen De\, En\, Frz\, Ma)
DESCRIPTION:
URL:https://www.gymnasium-teltow.de/event/nachpruefung-alle-schriftlichen-abiturpruefungsfaecher-grundkurs-ausgenommen-de-en-frz-ma/
CATEGORIES:KANT-Öffentlich
END:VEVENT
BEGIN:VEVENT
DTSTART;VALUE=DATE:20260521
DTEND;VALUE=DATE:20260523
DTSTAMP:20260424T151811
CREATED:20251020T192507Z
LAST-MODIFIED:20260412T212429Z
UID:10000586-1779328800-1779415199@www.gymnasium-teltow.de
SUMMARY:Mündliche Abiturprüfungen NUR Psychologie
DESCRIPTION:
URL:https://www.gymnasium-teltow.de/event/muendliche-abiturpruefungen-nur-psychologie-2/
CATEGORIES:KANT-Öffentlich
END:VEVENT
BEGIN:VEVENT
DTSTART;TZID=Europe/Berlin:20260521T163000
DTEND;TZID=Europe/Berlin:20260521T173000
DTSTAMP:20260424T151811
CREATED:20251020T192506Z
LAST-MODIFIED:20260412T212429Z
UID:10000583-1779381000-1779384600@www.gymnasium-teltow.de
SUMMARY:AG: Computerspiele entwickeln
DESCRIPTION:
URL:https://www.gymnasium-teltow.de/event/ag-computerspiele-entwickeln-33/
LOCATION:-1-09
CATEGORIES:KANT-Öffentlich
END:VEVENT
BEGIN:VEVENT
DTSTART;VALUE=DATE:20260522
DTEND;VALUE=DATE:20260524
DTSTAMP:20260424T151811
CREATED:20251020T192506Z
LAST-MODIFIED:20260412T212429Z
UID:10000584-1779415200-1779501599@www.gymnasium-teltow.de
SUMMARY:Mündliche Abiturprüfungen NUR Psychologie
DESCRIPTION:
URL:https://www.gymnasium-teltow.de/event/muendliche-abiturpruefungen-nur-psychologie/
CATEGORIES:KANT-Öffentlich
END:VEVENT
BEGIN:VEVENT
DTSTART;TZID=Europe/Berlin:20260522T112500
DTEND;TZID=Europe/Berlin:20260522T125500
DTSTAMP:20260424T151811
CREATED:20260412T143715Z
LAST-MODIFIED:20260412T212429Z
UID:10000748-1779449100-1779454500@www.gymnasium-teltow.de
SUMMARY:Klausur 11 GK PB
DESCRIPTION:
URL:https://www.gymnasium-teltow.de/event/klausur-11-gk-pb/
CATEGORIES:KANT-Öffentlich
END:VEVENT
BEGIN:VEVENT
DTSTART;TZID=Europe/Berlin:20260526T132000
DTEND;TZID=Europe/Berlin:20260526T145000
DTSTAMP:20260424T151811
CREATED:20251205T102457Z
LAST-MODIFIED:20260412T212430Z
UID:10000705-1779801600-1779807000@www.gymnasium-teltow.de
SUMMARY:DELF-AG
DESCRIPTION:
URL:https://www.gymnasium-teltow.de/event/delf-ag-14/
CATEGORIES:KANT-Öffentlich
END:VEVENT
BEGIN:VEVENT
DTSTART;TZID=Europe/Berlin:20260527T132000
DTEND;TZID=Europe/Berlin:20260527T145000
DTSTAMP:20260424T151811
CREATED:20260412T143715Z
LAST-MODIFIED:20260412T212430Z
UID:10000749-1779888000-1779893400@www.gymnasium-teltow.de
SUMMARY:Klausur 11 MU GK
DESCRIPTION:
URL:https://www.gymnasium-teltow.de/event/klausur-11-mu-gk/
CATEGORIES:KANT-Öffentlich
END:VEVENT
BEGIN:VEVENT
DTSTART;TZID=Europe/Berlin:20260527T133000
DTEND;TZID=Europe/Berlin:20260527T150000
DTSTAMP:20260424T151811
CREATED:20251020T192508Z
LAST-MODIFIED:20260412T212430Z
UID:10000590-1779888600-1779894000@www.gymnasium-teltow.de
SUMMARY:AG: Chor
DESCRIPTION:
URL:https://www.gymnasium-teltow.de/event/ag-chor-34/
LOCATION:Aula
CATEGORIES:KANT-Öffentlich
END:VEVENT
BEGIN:VEVENT
DTSTART;TZID=Europe/Berlin:20260527T133000
DTEND;TZID=Europe/Berlin:20260527T150000
DTSTAMP:20260424T151811
CREATED:20251020T192508Z
LAST-MODIFIED:20260412T212430Z
UID:10000588-1779888600-1779894000@www.gymnasium-teltow.de
SUMMARY:AG: Pontes
DESCRIPTION:
URL:https://www.gymnasium-teltow.de/event/ag-pontes-34/
LOCATION:2.02
CATEGORIES:KANT-Öffentlich
END:VEVENT
BEGIN:VEVENT
DTSTART;TZID=Europe/Berlin:20260527T133000
DTEND;TZID=Europe/Berlin:20260527T150000
DTSTAMP:20260424T151811
CREATED:20251020T192509Z
LAST-MODIFIED:20260412T212430Z
UID:10000591-1779888600-1779894000@www.gymnasium-teltow.de
SUMMARY:AG: Jahrbuch
DESCRIPTION:Treffen nach Absprache
URL:https://www.gymnasium-teltow.de/event/ag-jahrbuch-34/
CATEGORIES:KANT-Öffentlich
END:VEVENT
BEGIN:VEVENT
DTSTART;TZID=Europe/Berlin:20260527T133000
DTEND;TZID=Europe/Berlin:20260527T150000
DTSTAMP:20260424T151811
CREATED:20251020T192509Z
LAST-MODIFIED:20260412T212430Z
UID:10000592-1779888600-1779894000@www.gymnasium-teltow.de
SUMMARY:AG: Bienen
DESCRIPTION:
URL:https://www.gymnasium-teltow.de/event/ag-bienen-34/
LOCATION:1.12
CATEGORIES:KANT-Öffentlich
END:VEVENT
BEGIN:VEVENT
DTSTART;TZID=Europe/Berlin:20260527T133000
DTEND;TZID=Europe/Berlin:20260527T150000
DTSTAMP:20260424T151811
CREATED:20251020T192509Z
LAST-MODIFIED:20260412T212430Z
UID:10000593-1779888600-1779894000@www.gymnasium-teltow.de
SUMMARY:AG: Ab ins Beet
DESCRIPTION:
URL:https://www.gymnasium-teltow.de/event/ag-ab-ins-beet-35/
LOCATION:1.02
CATEGORIES:KANT-Öffentlich
END:VEVENT
BEGIN:VEVENT
DTSTART;TZID=Europe/Berlin:20260527T150000
DTEND;TZID=Europe/Berlin:20260527T163000
DTSTAMP:20260424T151811
CREATED:20251020T192508Z
LAST-MODIFIED:20260412T212430Z
UID:10000589-1779894000-1779899400@www.gymnasium-teltow.de
SUMMARY:AG: Theater
DESCRIPTION:
URL:https://www.gymnasium-teltow.de/event/ag-theater-34/
LOCATION:Aula
CATEGORIES:KANT-Öffentlich
END:VEVENT
BEGIN:VEVENT
DTSTART;TZID=Europe/Berlin:20260527T151500
DTEND;TZID=Europe/Berlin:20260527T163000
DTSTAMP:20260424T151811
CREATED:20250915T202429Z
LAST-MODIFIED:20260412T212430Z
UID:10000218-1779894900-1779899400@www.gymnasium-teltow.de
SUMMARY:Bewegungskampagne für Mädchen: Floorball
DESCRIPTION:Schul-AG für Mädchen zur sportlichen Entwicklung koordinativer Fähigkeiten mit Hilfe der Sportart Floorball
URL:https://www.gymnasium-teltow.de/event/bewegungskampagne-fuer-maedchen-floorball-63/
LOCATION:Turnhalle des Immanuel-Kant-Gymnasiums Teltow
CATEGORIES:KANT-Öffentlich
END:VEVENT
BEGIN:VEVENT
DTSTART;VALUE=DATE:20260528
DTEND;VALUE=DATE:20260530
DTSTAMP:20260424T151811
CREATED:20251020T192510Z
LAST-MODIFIED:20260412T212430Z
UID:10000594-1779933600-1780019999@www.gymnasium-teltow.de
SUMMARY:Nachprüfung schriftliches Abitur Englisch GK + LK
DESCRIPTION:
URL:https://www.gymnasium-teltow.de/event/nachpruefung-schriftliches-abitur-englisch-gk-lk/
CATEGORIES:KANT-Öffentlich
END:VEVENT
BEGIN:VEVENT
DTSTART;TZID=Europe/Berlin:20260528T092500
DTEND;TZID=Europe/Berlin:20260528T114000
DTSTAMP:20260424T151811
CREATED:20260412T143716Z
LAST-MODIFIED:20260412T212430Z
UID:10000750-1779960300-1779968400@www.gymnasium-teltow.de
SUMMARY:Klausur 11 GK+ LK EN
DESCRIPTION:
URL:https://www.gymnasium-teltow.de/event/klausur-11-gk-lk-en/
CATEGORIES:KANT-Öffentlich
END:VEVENT
BEGIN:VEVENT
DTSTART;TZID=Europe/Berlin:20260528T163000
DTEND;TZID=Europe/Berlin:20260528T173000
DTSTAMP:20260424T151811
CREATED:20251020T192510Z
LAST-MODIFIED:20260412T212430Z
UID:10000595-1779985800-1779989400@www.gymnasium-teltow.de
SUMMARY:AG: Computerspiele entwickeln
DESCRIPTION:
URL:https://www.gymnasium-teltow.de/event/ag-computerspiele-entwickeln-34/
LOCATION:-1-09
CATEGORIES:KANT-Öffentlich
END:VEVENT
BEGIN:VEVENT
DTSTART;VALUE=DATE:20260529
DTEND;VALUE=DATE:20260531
DTSTAMP:20260424T151811
CREATED:20260412T143716Z
LAST-MODIFIED:20260412T212430Z
UID:10000751-1780020000-1780106399@www.gymnasium-teltow.de
SUMMARY:Umtellung Telefonanlage
DESCRIPTION:
URL:https://www.gymnasium-teltow.de/event/umtellung-telefonanlage/
CATEGORIES:KANT-Öffentlich
END:VEVENT
BEGIN:VEVENT
DTSTART;VALUE=DATE:20260601
DTEND;VALUE=DATE:20260603
DTSTAMP:20260424T151811
CREATED:20251020T192510Z
LAST-MODIFIED:20260412T212430Z
UID:10000596-1780279200-1780365599@www.gymnasium-teltow.de
SUMMARY:Nachprüfung schriftliches Abitur Französisch
DESCRIPTION:
URL:https://www.gymnasium-teltow.de/event/nachpruefung-schriftliches-abitur-franzoesisch/
CATEGORIES:KANT-Öffentlich
END:VEVENT
BEGIN:VEVENT
DTSTART;VALUE=DATE:20260602
DTEND;VALUE=DATE:20260604
DTSTAMP:20260424T151811
CREATED:20250915T195129Z
LAST-MODIFIED:20260412T212431Z
UID:10000177-1780365600-1780451999@www.gymnasium-teltow.de
SUMMARY:OA Deutsch Klasse 8
DESCRIPTION:60min Arbeitszeit
URL:https://www.gymnasium-teltow.de/event/oa-deutsch-klasse-8/
CATEGORIES:KANT-Öffentlich
END:VEVENT
END:VCALENDAR