BEGIN:VCALENDAR
VERSION:2.0
PRODID:-//Immanuel-Kant-Gymnasium - ECPv6.15.20//NONSGML v1.0//EN
CALSCALE:GREGORIAN
METHOD:PUBLISH
X-WR-CALNAME:Immanuel-Kant-Gymnasium
X-ORIGINAL-URL:https://www.gymnasium-teltow.de
X-WR-CALDESC:Veranstaltungen für Immanuel-Kant-Gymnasium
REFRESH-INTERVAL;VALUE=DURATION:PT1H
X-Robots-Tag:noindex
X-PUBLISHED-TTL:PT1H
BEGIN:VTIMEZONE
TZID:Europe/Berlin
BEGIN:DAYLIGHT
TZOFFSETFROM:+0100
TZOFFSETTO:+0200
TZNAME:CEST
DTSTART:20250330T010000
END:DAYLIGHT
BEGIN:STANDARD
TZOFFSETFROM:+0200
TZOFFSETTO:+0100
TZNAME:CET
DTSTART:20251026T010000
END:STANDARD
BEGIN:DAYLIGHT
TZOFFSETFROM:+0100
TZOFFSETTO:+0200
TZNAME:CEST
DTSTART:20260329T010000
END:DAYLIGHT
BEGIN:STANDARD
TZOFFSETFROM:+0200
TZOFFSETTO:+0100
TZNAME:CET
DTSTART:20261025T010000
END:STANDARD
BEGIN:DAYLIGHT
TZOFFSETFROM:+0100
TZOFFSETTO:+0200
TZNAME:CEST
DTSTART:20270328T010000
END:DAYLIGHT
BEGIN:STANDARD
TZOFFSETFROM:+0200
TZOFFSETTO:+0100
TZNAME:CET
DTSTART:20271031T010000
END:STANDARD
END:VTIMEZONE
BEGIN:VEVENT
DTSTART;VALUE=DATE:20260223
DTEND;VALUE=DATE:20260315
DTSTAMP:20260421T105604
CREATED:20250927T115413Z
LAST-MODIFIED:20260205T063944Z
UID:10000269-1771808400-1773449999@www.gymnasium-teltow.de
SUMMARY:VERA 8 - Testzeitraum
DESCRIPTION:
URL:https://www.gymnasium-teltow.de/event/vera-8-testzeitraum/
CATEGORIES:KANT-Öffentlich
END:VEVENT
BEGIN:VEVENT
DTSTART;VALUE=DATE:20260301
DTEND;VALUE=DATE:20260308
DTSTAMP:20260421T105604
CREATED:20251114T150935Z
LAST-MODIFIED:20260205T063944Z
UID:10000687-1772326800-1772845199@www.gymnasium-teltow.de
SUMMARY:Schüleraustausch - französische SuS am KANT
DESCRIPTION:
URL:https://www.gymnasium-teltow.de/event/schueleraustausch-franzoesische-sus-am-kant/
CATEGORIES:KANT-Öffentlich
END:VEVENT
BEGIN:VEVENT
DTSTART;TZID=Europe/Berlin:20260303T142000
DTEND;TZID=Europe/Berlin:20260303T155000
DTSTAMP:20260421T105604
CREATED:20251205T102435Z
LAST-MODIFIED:20260205T063944Z
UID:10000699-1772547600-1772553000@www.gymnasium-teltow.de
SUMMARY:DELF-AG
DESCRIPTION:
URL:https://www.gymnasium-teltow.de/event/delf-ag-8/
CATEGORIES:KANT-Öffentlich
END:VEVENT
BEGIN:VEVENT
DTSTART;TZID=Europe/Berlin:20260304T133000
DTEND;TZID=Europe/Berlin:20260304T150000
DTSTAMP:20260421T105604
CREATED:20251007T075525Z
LAST-MODIFIED:20260205T063945Z
UID:10000456-1772631000-1772636400@www.gymnasium-teltow.de
SUMMARY:AG: Chor
DESCRIPTION:
URL:https://www.gymnasium-teltow.de/event/ag-chor-22/
LOCATION:Aula
CATEGORIES:KANT-Öffentlich
END:VEVENT
BEGIN:VEVENT
DTSTART;TZID=Europe/Berlin:20260304T133000
DTEND;TZID=Europe/Berlin:20260304T150000
DTSTAMP:20260421T105604
CREATED:20251007T075526Z
LAST-MODIFIED:20260205T063945Z
UID:10000457-1772631000-1772636400@www.gymnasium-teltow.de
SUMMARY:AG: Pontes
DESCRIPTION:
URL:https://www.gymnasium-teltow.de/event/ag-pontes-22/
LOCATION:2.02
CATEGORIES:KANT-Öffentlich
END:VEVENT
BEGIN:VEVENT
DTSTART;TZID=Europe/Berlin:20260304T133000
DTEND;TZID=Europe/Berlin:20260304T150000
DTSTAMP:20260421T105604
CREATED:20251007T075526Z
LAST-MODIFIED:20260205T063944Z
UID:10000458-1772631000-1772636400@www.gymnasium-teltow.de
SUMMARY:AG: Jahrbuch
DESCRIPTION:Treffen nach Absprache
URL:https://www.gymnasium-teltow.de/event/ag-jahrbuch-22/
CATEGORIES:KANT-Öffentlich
END:VEVENT
BEGIN:VEVENT
DTSTART;TZID=Europe/Berlin:20260304T133000
DTEND;TZID=Europe/Berlin:20260304T150000
DTSTAMP:20260421T105604
CREATED:20251007T075526Z
LAST-MODIFIED:20260205T063944Z
UID:10000459-1772631000-1772636400@www.gymnasium-teltow.de
SUMMARY:AG: Ab ins Beet
DESCRIPTION:
URL:https://www.gymnasium-teltow.de/event/ag-ab-ins-beet-22/
LOCATION:1.02
CATEGORIES:KANT-Öffentlich
END:VEVENT
BEGIN:VEVENT
DTSTART;TZID=Europe/Berlin:20260304T133000
DTEND;TZID=Europe/Berlin:20260304T150000
DTSTAMP:20260421T105604
CREATED:20251007T075527Z
LAST-MODIFIED:20260205T063944Z
UID:10000460-1772631000-1772636400@www.gymnasium-teltow.de
SUMMARY:AG: Bienen
DESCRIPTION:
URL:https://www.gymnasium-teltow.de/event/ag-bienen-22/
LOCATION:1.12
CATEGORIES:KANT-Öffentlich
END:VEVENT
BEGIN:VEVENT
DTSTART;TZID=Europe/Berlin:20260304T150000
DTEND;TZID=Europe/Berlin:20260304T163000
DTSTAMP:20260421T105604
CREATED:20251007T075527Z
LAST-MODIFIED:20260205T063945Z
UID:10000461-1772636400-1772641800@www.gymnasium-teltow.de
SUMMARY:AG: Theater
DESCRIPTION:
URL:https://www.gymnasium-teltow.de/event/ag-theater-22/
LOCATION:Aula
CATEGORIES:KANT-Öffentlich
END:VEVENT
BEGIN:VEVENT
DTSTART;TZID=Europe/Berlin:20260304T151500
DTEND;TZID=Europe/Berlin:20260304T163000
DTSTAMP:20260421T105604
CREATED:20250915T202427Z
LAST-MODIFIED:20260205T063945Z
UID:10000206-1772637300-1772641800@www.gymnasium-teltow.de
SUMMARY:Bewegungskampagne für Mädchen: Floorball
DESCRIPTION:Schul-AG für Mädchen zur sportlichen Entwicklung koordinativer Fähigkeiten mit Hilfe der Sportart Floorball
URL:https://www.gymnasium-teltow.de/event/bewegungskampagne-fuer-maedchen-floorball-51/
LOCATION:Turnhalle des Immanuel-Kant-Gymnasiums Teltow
CATEGORIES:KANT-Öffentlich
END:VEVENT
BEGIN:VEVENT
DTSTART;TZID=Europe/Berlin:20260305T163000
DTEND;TZID=Europe/Berlin:20260305T173000
DTSTAMP:20260421T105604
CREATED:20251007T075527Z
LAST-MODIFIED:20260205T063945Z
UID:10000462-1772728200-1772731800@www.gymnasium-teltow.de
SUMMARY:AG: Computerspiele entwickeln
DESCRIPTION:
URL:https://www.gymnasium-teltow.de/event/ag-computerspiele-entwickeln-22/
LOCATION:-1-09
CATEGORIES:KANT-Öffentlich
END:VEVENT
END:VCALENDAR