BEGIN:VCALENDAR
VERSION:2.0
PRODID:-//Immanuel-Kant-Gymnasium - ECPv6.15.20//NONSGML v1.0//EN
CALSCALE:GREGORIAN
METHOD:PUBLISH
X-ORIGINAL-URL:https://www.gymnasium-teltow.de
X-WR-CALDESC:Veranstaltungen für Immanuel-Kant-Gymnasium
REFRESH-INTERVAL;VALUE=DURATION:PT1H
X-Robots-Tag:noindex
X-PUBLISHED-TTL:PT1H
BEGIN:VTIMEZONE
TZID:Europe/Berlin
BEGIN:DAYLIGHT
TZOFFSETFROM:+0100
TZOFFSETTO:+0200
TZNAME:CEST
DTSTART:20220327T010000
END:DAYLIGHT
BEGIN:STANDARD
TZOFFSETFROM:+0200
TZOFFSETTO:+0100
TZNAME:CET
DTSTART:20221030T010000
END:STANDARD
BEGIN:DAYLIGHT
TZOFFSETFROM:+0100
TZOFFSETTO:+0200
TZNAME:CEST
DTSTART:20230326T010000
END:DAYLIGHT
BEGIN:STANDARD
TZOFFSETFROM:+0200
TZOFFSETTO:+0100
TZNAME:CET
DTSTART:20231029T010000
END:STANDARD
BEGIN:DAYLIGHT
TZOFFSETFROM:+0100
TZOFFSETTO:+0200
TZNAME:CEST
DTSTART:20240331T010000
END:DAYLIGHT
BEGIN:STANDARD
TZOFFSETFROM:+0200
TZOFFSETTO:+0100
TZNAME:CET
DTSTART:20241027T010000
END:STANDARD
END:VTIMEZONE
BEGIN:VEVENT
DTSTART;VALUE=DATE:20230918
DTEND;VALUE=DATE:20231001
DTSTAMP:20260424T014144
CREATED:20230804T183826Z
LAST-MODIFIED:20230929T225912Z
UID:10000014-1695002400-1696039199@www.gymnasium-teltow.de
SUMMARY:SBP 9
DESCRIPTION:
URL:https://www.gymnasium-teltow.de/event/sbp-9/
CATEGORIES:Schüler/Eltern allgemein
END:VEVENT
BEGIN:VEVENT
DTSTART;TZID=Europe/Berlin:20230927T180000
DTEND;TZID=Europe/Berlin:20230927T200000
DTSTAMP:20260424T014144
CREATED:20230910T111005Z
LAST-MODIFIED:20230927T174238Z
UID:10000047-1695837600-1695844800@www.gymnasium-teltow.de
SUMMARY:Gesamtelternkonferenz
DESCRIPTION:
URL:https://www.gymnasium-teltow.de/event/gesamtelternkonferenz-2/
CATEGORIES:Schüler/Eltern allgemein
END:VEVENT
BEGIN:VEVENT
DTSTART;TZID=Europe/Berlin:20230927T183000
DTEND;TZID=Europe/Berlin:20230927T200000
DTSTAMP:20260424T014144
CREATED:20230804T183827Z
LAST-MODIFIED:20230910T100929Z
UID:10000015-1695839400-1695844800@www.gymnasium-teltow.de
SUMMARY:Gesamtelternkonferenz
DESCRIPTION:
URL:https://www.gymnasium-teltow.de/event/gesamtelternkonferenz/
CATEGORIES:Schüler/Eltern allgemein
END:VEVENT
END:VCALENDAR