BEGIN:VCALENDAR
VERSION:2.0
PRODID:-//Immanuel-Kant-Gymnasium - ECPv6.15.20//NONSGML v1.0//EN
CALSCALE:GREGORIAN
METHOD:PUBLISH
X-WR-CALNAME:Immanuel-Kant-Gymnasium
X-ORIGINAL-URL:https://www.gymnasium-teltow.de
X-WR-CALDESC:Veranstaltungen für Immanuel-Kant-Gymnasium
REFRESH-INTERVAL;VALUE=DURATION:PT1H
X-Robots-Tag:noindex
X-PUBLISHED-TTL:PT1H
BEGIN:VTIMEZONE
TZID:Europe/Berlin
BEGIN:DAYLIGHT
TZOFFSETFROM:+0100
TZOFFSETTO:+0200
TZNAME:CEST
DTSTART:20250330T010000
END:DAYLIGHT
BEGIN:STANDARD
TZOFFSETFROM:+0200
TZOFFSETTO:+0100
TZNAME:CET
DTSTART:20251026T010000
END:STANDARD
BEGIN:DAYLIGHT
TZOFFSETFROM:+0100
TZOFFSETTO:+0200
TZNAME:CEST
DTSTART:20260329T010000
END:DAYLIGHT
BEGIN:STANDARD
TZOFFSETFROM:+0200
TZOFFSETTO:+0100
TZNAME:CET
DTSTART:20261025T010000
END:STANDARD
BEGIN:DAYLIGHT
TZOFFSETFROM:+0100
TZOFFSETTO:+0200
TZNAME:CEST
DTSTART:20270328T010000
END:DAYLIGHT
BEGIN:STANDARD
TZOFFSETFROM:+0200
TZOFFSETTO:+0100
TZNAME:CET
DTSTART:20271031T010000
END:STANDARD
END:VTIMEZONE
BEGIN:VEVENT
DTSTART;VALUE=DATE:20260528
DTEND;VALUE=DATE:20260530
DTSTAMP:20260424T165642
CREATED:20251020T192510Z
LAST-MODIFIED:20260412T212430Z
UID:10000594-1779933600-1780019999@www.gymnasium-teltow.de
SUMMARY:Nachprüfung schriftliches Abitur Englisch GK + LK
DESCRIPTION:
URL:https://www.gymnasium-teltow.de/event/nachpruefung-schriftliches-abitur-englisch-gk-lk/
CATEGORIES:KANT-Öffentlich
END:VEVENT
BEGIN:VEVENT
DTSTART;TZID=Europe/Berlin:20260528T092500
DTEND;TZID=Europe/Berlin:20260528T114000
DTSTAMP:20260424T165642
CREATED:20260412T143716Z
LAST-MODIFIED:20260412T212430Z
UID:10000750-1779960300-1779968400@www.gymnasium-teltow.de
SUMMARY:Klausur 11 GK+ LK EN
DESCRIPTION:
URL:https://www.gymnasium-teltow.de/event/klausur-11-gk-lk-en/
CATEGORIES:KANT-Öffentlich
END:VEVENT
BEGIN:VEVENT
DTSTART;TZID=Europe/Berlin:20260528T163000
DTEND;TZID=Europe/Berlin:20260528T173000
DTSTAMP:20260424T165642
CREATED:20251020T192510Z
LAST-MODIFIED:20260412T212430Z
UID:10000595-1779985800-1779989400@www.gymnasium-teltow.de
SUMMARY:AG: Computerspiele entwickeln
DESCRIPTION:
URL:https://www.gymnasium-teltow.de/event/ag-computerspiele-entwickeln-34/
LOCATION:-1-09
CATEGORIES:KANT-Öffentlich
END:VEVENT
BEGIN:VEVENT
DTSTART;VALUE=DATE:20260529
DTEND;VALUE=DATE:20260531
DTSTAMP:20260424T165642
CREATED:20260412T143716Z
LAST-MODIFIED:20260412T212430Z
UID:10000751-1780020000-1780106399@www.gymnasium-teltow.de
SUMMARY:Umtellung Telefonanlage
DESCRIPTION:
URL:https://www.gymnasium-teltow.de/event/umtellung-telefonanlage/
CATEGORIES:KANT-Öffentlich
END:VEVENT
BEGIN:VEVENT
DTSTART;VALUE=DATE:20260601
DTEND;VALUE=DATE:20260603
DTSTAMP:20260424T165642
CREATED:20251020T192510Z
LAST-MODIFIED:20260412T212430Z
UID:10000596-1780279200-1780365599@www.gymnasium-teltow.de
SUMMARY:Nachprüfung schriftliches Abitur Französisch
DESCRIPTION:
URL:https://www.gymnasium-teltow.de/event/nachpruefung-schriftliches-abitur-franzoesisch/
CATEGORIES:KANT-Öffentlich
END:VEVENT
BEGIN:VEVENT
DTSTART;VALUE=DATE:20260602
DTEND;VALUE=DATE:20260604
DTSTAMP:20260424T165642
CREATED:20250915T195129Z
LAST-MODIFIED:20260412T212431Z
UID:10000177-1780365600-1780451999@www.gymnasium-teltow.de
SUMMARY:OA Deutsch Klasse 8
DESCRIPTION:60min Arbeitszeit
URL:https://www.gymnasium-teltow.de/event/oa-deutsch-klasse-8/
CATEGORIES:KANT-Öffentlich
END:VEVENT
BEGIN:VEVENT
DTSTART;TZID=Europe/Berlin:20260602T073000
DTEND;TZID=Europe/Berlin:20260602T094500
DTSTAMP:20260424T165642
CREATED:20260412T143716Z
LAST-MODIFIED:20260412T212431Z
UID:10000752-1780385400-1780393500@www.gymnasium-teltow.de
SUMMARY:Klausur 11 GK + LK MA
DESCRIPTION:
URL:https://www.gymnasium-teltow.de/event/klausur-11-gk-lk-ma/
CATEGORIES:KANT-Öffentlich
END:VEVENT
BEGIN:VEVENT
DTSTART;TZID=Europe/Berlin:20260602T150000
DTEND;TZID=Europe/Berlin:20260602T163000
DTSTAMP:20260424T165642
CREATED:20251020T192513Z
LAST-MODIFIED:20251221T172458Z
UID:10000607-1780412400-1780417800@www.gymnasium-teltow.de
SUMMARY:Lehrkräfte-Chor
DESCRIPTION:
URL:https://www.gymnasium-teltow.de/event/lehrkraefte-chor-18/
CATEGORIES:KANT-Öffentlich
END:VEVENT
BEGIN:VEVENT
DTSTART;TZID=Europe/Berlin:20260603T133000
DTEND;TZID=Europe/Berlin:20260603T150000
DTSTAMP:20260424T165642
CREATED:20251020T192511Z
LAST-MODIFIED:20260412T212431Z
UID:10000598-1780493400-1780498800@www.gymnasium-teltow.de
SUMMARY:AG: Pontes
DESCRIPTION:
URL:https://www.gymnasium-teltow.de/event/ag-pontes-35/
LOCATION:2.02
CATEGORIES:KANT-Öffentlich
END:VEVENT
BEGIN:VEVENT
DTSTART;TZID=Europe/Berlin:20260603T133000
DTEND;TZID=Europe/Berlin:20260603T150000
DTSTAMP:20260424T165642
CREATED:20251020T192511Z
LAST-MODIFIED:20260412T212431Z
UID:10000599-1780493400-1780498800@www.gymnasium-teltow.de
SUMMARY:AG: Bienen
DESCRIPTION:
URL:https://www.gymnasium-teltow.de/event/ag-bienen-35/
LOCATION:1.12
CATEGORIES:KANT-Öffentlich
END:VEVENT
BEGIN:VEVENT
DTSTART;TZID=Europe/Berlin:20260603T133000
DTEND;TZID=Europe/Berlin:20260603T150000
DTSTAMP:20260424T165642
CREATED:20251020T192511Z
LAST-MODIFIED:20260412T212431Z
UID:10000600-1780493400-1780498800@www.gymnasium-teltow.de
SUMMARY:AG: Chor
DESCRIPTION:
URL:https://www.gymnasium-teltow.de/event/ag-chor-35/
LOCATION:Aula
CATEGORIES:KANT-Öffentlich
END:VEVENT
BEGIN:VEVENT
DTSTART;TZID=Europe/Berlin:20260603T133000
DTEND;TZID=Europe/Berlin:20260603T150000
DTSTAMP:20260424T165642
CREATED:20251020T192512Z
LAST-MODIFIED:20260412T212431Z
UID:10000601-1780493400-1780498800@www.gymnasium-teltow.de
SUMMARY:AG: Jahrbuch
DESCRIPTION:Treffen nach Absprache
URL:https://www.gymnasium-teltow.de/event/ag-jahrbuch-35/
CATEGORIES:KANT-Öffentlich
END:VEVENT
BEGIN:VEVENT
DTSTART;TZID=Europe/Berlin:20260603T133000
DTEND;TZID=Europe/Berlin:20260603T150000
DTSTAMP:20260424T165642
CREATED:20251020T192512Z
LAST-MODIFIED:20260412T212431Z
UID:10000602-1780493400-1780498800@www.gymnasium-teltow.de
SUMMARY:AG: Ab ins Beet
DESCRIPTION:
URL:https://www.gymnasium-teltow.de/event/ag-ab-ins-beet-36/
LOCATION:1.02
CATEGORIES:KANT-Öffentlich
END:VEVENT
BEGIN:VEVENT
DTSTART;TZID=Europe/Berlin:20260603T150000
DTEND;TZID=Europe/Berlin:20260603T160000
DTSTAMP:20260424T165642
CREATED:20251020T192511Z
LAST-MODIFIED:20260412T212432Z
UID:10000597-1780498800-1780502400@www.gymnasium-teltow.de
SUMMARY:AG: Technik
DESCRIPTION:
URL:https://www.gymnasium-teltow.de/event/ag-technik-18/
LOCATION:Aula
CATEGORIES:KANT-Öffentlich
END:VEVENT
BEGIN:VEVENT
DTSTART;TZID=Europe/Berlin:20260603T150000
DTEND;TZID=Europe/Berlin:20260603T163000
DTSTAMP:20260424T165642
CREATED:20251020T192512Z
LAST-MODIFIED:20260412T212431Z
UID:10000603-1780498800-1780504200@www.gymnasium-teltow.de
SUMMARY:AG: Theater
DESCRIPTION:
URL:https://www.gymnasium-teltow.de/event/ag-theater-35/
LOCATION:Aula
CATEGORIES:KANT-Öffentlich
END:VEVENT
BEGIN:VEVENT
DTSTART;TZID=Europe/Berlin:20260603T151500
DTEND;TZID=Europe/Berlin:20260603T163000
DTSTAMP:20260424T165642
CREATED:20250915T202429Z
LAST-MODIFIED:20260412T212432Z
UID:10000219-1780499700-1780504200@www.gymnasium-teltow.de
SUMMARY:Bewegungskampagne für Mädchen: Floorball
DESCRIPTION:Schul-AG für Mädchen zur sportlichen Entwicklung koordinativer Fähigkeiten mit Hilfe der Sportart Floorball
URL:https://www.gymnasium-teltow.de/event/bewegungskampagne-fuer-maedchen-floorball-64/
LOCATION:Turnhalle des Immanuel-Kant-Gymnasiums Teltow
CATEGORIES:KANT-Öffentlich
END:VEVENT
BEGIN:VEVENT
DTSTART;TZID=Europe/Berlin:20260604T112500
DTEND;TZID=Europe/Berlin:20260604T134000
DTSTAMP:20260424T165642
CREATED:20260412T143717Z
LAST-MODIFIED:20260412T212432Z
UID:10000753-1780572300-1780580400@www.gymnasium-teltow.de
SUMMARY:Klausur 11 GK + LK DE
DESCRIPTION:
URL:https://www.gymnasium-teltow.de/event/klausur-11-gk-lk-de/
CATEGORIES:KANT-Öffentlich
END:VEVENT
BEGIN:VEVENT
DTSTART;TZID=Europe/Berlin:20260604T163000
DTEND;TZID=Europe/Berlin:20260604T173000
DTSTAMP:20260424T165642
CREATED:20251020T192512Z
LAST-MODIFIED:20260412T212432Z
UID:10000604-1780590600-1780594200@www.gymnasium-teltow.de
SUMMARY:AG: Computerspiele entwickeln
DESCRIPTION:
URL:https://www.gymnasium-teltow.de/event/ag-computerspiele-entwickeln-35/
LOCATION:-1-09
CATEGORIES:KANT-Öffentlich
END:VEVENT
BEGIN:VEVENT
DTSTART;VALUE=DATE:20260605
DTEND;VALUE=DATE:20260607
DTSTAMP:20260424T165643
CREATED:20250915T195129Z
LAST-MODIFIED:20260412T212432Z
UID:10000178-1780624800-1780711199@www.gymnasium-teltow.de
SUMMARY:OA EN Klasse 8
DESCRIPTION:45min Arbeitszeit
URL:https://www.gymnasium-teltow.de/event/oa-en-klasse-8/
CATEGORIES:KANT-Öffentlich
END:VEVENT
BEGIN:VEVENT
DTSTART;VALUE=DATE:20260605
DTEND;VALUE=DATE:20260607
DTSTAMP:20260424T165643
CREATED:20251020T192512Z
LAST-MODIFIED:20260412T212432Z
UID:10000605-1780624800-1780711199@www.gymnasium-teltow.de
SUMMARY:Nachprüfung schriftliches Abitur Mathematik GK + LK
DESCRIPTION:
URL:https://www.gymnasium-teltow.de/event/nachpruefung-schriftliches-abitur-mathematik-gk-lk/
CATEGORIES:KANT-Öffentlich
END:VEVENT
BEGIN:VEVENT
DTSTART;VALUE=DATE:20260608
DTEND;VALUE=DATE:20260610
DTSTAMP:20260424T165643
CREATED:20251020T192513Z
LAST-MODIFIED:20260412T212432Z
UID:10000606-1780884000-1780970399@www.gymnasium-teltow.de
SUMMARY:Nachprüfung schriftliches Abitur Geografie\, Geschichte und PB LK
DESCRIPTION:
URL:https://www.gymnasium-teltow.de/event/nachpruefung-schriftliches-abitur-geografie-geschichte-und-pb-lk/
CATEGORIES:KANT-Öffentlich
END:VEVENT
BEGIN:VEVENT
DTSTART;TZID=Europe/Berlin:20260608T073000
DTEND;TZID=Europe/Berlin:20260608T090000
DTSTAMP:20260424T165643
CREATED:20260412T143717Z
LAST-MODIFIED:20260412T212432Z
UID:10000754-1780903800-1780909200@www.gymnasium-teltow.de
SUMMARY:Klausur 11 GK BIO
DESCRIPTION:
URL:https://www.gymnasium-teltow.de/event/klausur-11-gk-bio/
CATEGORIES:KANT-Öffentlich
END:VEVENT
BEGIN:VEVENT
DTSTART;VALUE=DATE:20260609
DTEND;VALUE=DATE:20260611
DTSTAMP:20260424T165643
CREATED:20250915T195129Z
LAST-MODIFIED:20260412T212432Z
UID:10000179-1780970400-1781056799@www.gymnasium-teltow.de
SUMMARY:OA Ma Klasse 8
DESCRIPTION:90min Arbeitszeit
URL:https://www.gymnasium-teltow.de/event/oa-ma-klasse-8/
CATEGORIES:KANT-Öffentlich
END:VEVENT
BEGIN:VEVENT
DTSTART;TZID=Europe/Berlin:20260609T132000
DTEND;TZID=Europe/Berlin:20260609T145000
DTSTAMP:20260424T165643
CREATED:20251205T102459Z
LAST-MODIFIED:20260412T212432Z
UID:10000706-1781011200-1781016600@www.gymnasium-teltow.de
SUMMARY:DELF-AG
DESCRIPTION:
URL:https://www.gymnasium-teltow.de/event/delf-ag-15/
CATEGORIES:KANT-Öffentlich
END:VEVENT
BEGIN:VEVENT
DTSTART;TZID=Europe/Berlin:20260610T133000
DTEND;TZID=Europe/Berlin:20260610T150000
DTSTAMP:20260424T165643
CREATED:20251020T192513Z
LAST-MODIFIED:20260412T212433Z
UID:10000608-1781098200-1781103600@www.gymnasium-teltow.de
SUMMARY:AG: Pontes
DESCRIPTION:
URL:https://www.gymnasium-teltow.de/event/ag-pontes-36/
LOCATION:2.02
CATEGORIES:KANT-Öffentlich
END:VEVENT
BEGIN:VEVENT
DTSTART;TZID=Europe/Berlin:20260610T133000
DTEND;TZID=Europe/Berlin:20260610T150000
DTSTAMP:20260424T165643
CREATED:20251020T192513Z
LAST-MODIFIED:20260412T212432Z
UID:10000609-1781098200-1781103600@www.gymnasium-teltow.de
SUMMARY:AG: Ab ins Beet
DESCRIPTION:
URL:https://www.gymnasium-teltow.de/event/ag-ab-ins-beet-37/
LOCATION:1.02
CATEGORIES:KANT-Öffentlich
END:VEVENT
BEGIN:VEVENT
DTSTART;TZID=Europe/Berlin:20260610T133000
DTEND;TZID=Europe/Berlin:20260610T150000
DTSTAMP:20260424T165643
CREATED:20251020T192514Z
LAST-MODIFIED:20260412T212433Z
UID:10000610-1781098200-1781103600@www.gymnasium-teltow.de
SUMMARY:AG: Chor
DESCRIPTION:
URL:https://www.gymnasium-teltow.de/event/ag-chor-36/
LOCATION:Aula
CATEGORIES:KANT-Öffentlich
END:VEVENT
BEGIN:VEVENT
DTSTART;TZID=Europe/Berlin:20260610T133000
DTEND;TZID=Europe/Berlin:20260610T150000
DTSTAMP:20260424T165643
CREATED:20251020T192514Z
LAST-MODIFIED:20260412T212433Z
UID:10000611-1781098200-1781103600@www.gymnasium-teltow.de
SUMMARY:AG: Jahrbuch
DESCRIPTION:Treffen nach Absprache
URL:https://www.gymnasium-teltow.de/event/ag-jahrbuch-36/
CATEGORIES:KANT-Öffentlich
END:VEVENT
BEGIN:VEVENT
DTSTART;TZID=Europe/Berlin:20260610T133000
DTEND;TZID=Europe/Berlin:20260610T150000
DTSTAMP:20260424T165643
CREATED:20251020T192514Z
LAST-MODIFIED:20260412T212432Z
UID:10000612-1781098200-1781103600@www.gymnasium-teltow.de
SUMMARY:AG: Bienen
DESCRIPTION:
URL:https://www.gymnasium-teltow.de/event/ag-bienen-36/
LOCATION:1.12
CATEGORIES:KANT-Öffentlich
END:VEVENT
BEGIN:VEVENT
DTSTART;TZID=Europe/Berlin:20260610T150000
DTEND;TZID=Europe/Berlin:20260610T163000
DTSTAMP:20260424T165643
CREATED:20251020T192514Z
LAST-MODIFIED:20260412T212433Z
UID:10000613-1781103600-1781109000@www.gymnasium-teltow.de
SUMMARY:AG: Theater
DESCRIPTION:
URL:https://www.gymnasium-teltow.de/event/ag-theater-36/
LOCATION:Aula
CATEGORIES:KANT-Öffentlich
END:VEVENT
END:VCALENDAR