BEGIN:VCALENDAR
VERSION:2.0
PRODID:-//Immanuel-Kant-Gymnasium - ECPv6.15.20//NONSGML v1.0//EN
CALSCALE:GREGORIAN
METHOD:PUBLISH
X-WR-CALNAME:Immanuel-Kant-Gymnasium
X-ORIGINAL-URL:https://www.gymnasium-teltow.de
X-WR-CALDESC:Veranstaltungen für Immanuel-Kant-Gymnasium
REFRESH-INTERVAL;VALUE=DURATION:PT1H
X-Robots-Tag:noindex
X-PUBLISHED-TTL:PT1H
BEGIN:VTIMEZONE
TZID:Europe/Berlin
BEGIN:DAYLIGHT
TZOFFSETFROM:+0100
TZOFFSETTO:+0200
TZNAME:CEST
DTSTART:20250330T010000
END:DAYLIGHT
BEGIN:STANDARD
TZOFFSETFROM:+0200
TZOFFSETTO:+0100
TZNAME:CET
DTSTART:20251026T010000
END:STANDARD
BEGIN:DAYLIGHT
TZOFFSETFROM:+0100
TZOFFSETTO:+0200
TZNAME:CEST
DTSTART:20260329T010000
END:DAYLIGHT
BEGIN:STANDARD
TZOFFSETFROM:+0200
TZOFFSETTO:+0100
TZNAME:CET
DTSTART:20261025T010000
END:STANDARD
BEGIN:DAYLIGHT
TZOFFSETFROM:+0100
TZOFFSETTO:+0200
TZNAME:CEST
DTSTART:20270328T010000
END:DAYLIGHT
BEGIN:STANDARD
TZOFFSETFROM:+0200
TZOFFSETTO:+0100
TZNAME:CET
DTSTART:20271031T010000
END:STANDARD
END:VTIMEZONE
BEGIN:VEVENT
DTSTART;VALUE=DATE:20260420
DTEND;VALUE=DATE:20260422
DTSTAMP:20260420T021126
CREATED:20250928T073921Z
LAST-MODIFIED:20260412T212423Z
UID:10000271-1776650400-1776736799@www.gymnasium-teltow.de
SUMMARY:Schriftliches Abitur Grundkurs (alle Fächer außer Biologie\, Chemie\, Deutsch\, Englisch\, Französisch\, Mathematik und Physik)
DESCRIPTION:
URL:https://www.gymnasium-teltow.de/event/schriftliches-abitur-grundkurs-alle-faecher-ausser-biologie-chemie-deutsch-englisch-franzoesisch-mathematik-und-physik/
CATEGORIES:KANT-Öffentlich
END:VEVENT
BEGIN:VEVENT
DTSTART;TZID=Europe/Berlin:20260421T000000
DTEND;TZID=Europe/Berlin:20260421T010000
DTSTAMP:20260420T021126
CREATED:20260412T143708Z
LAST-MODIFIED:20260412T212423Z
UID:10000734-1776729600-1776733200@www.gymnasium-teltow.de
SUMMARY:Klausur 11 IF GK
DESCRIPTION:
URL:https://www.gymnasium-teltow.de/event/klausur-11-if-gk/
CATEGORIES:KANT-Öffentlich
END:VEVENT
BEGIN:VEVENT
DTSTART;TZID=Europe/Berlin:20260421T132000
DTEND;TZID=Europe/Berlin:20260421T145000
DTSTAMP:20260420T021126
CREATED:20260412T143708Z
LAST-MODIFIED:20260412T212423Z
UID:10000735-1776777600-1776783000@www.gymnasium-teltow.de
SUMMARY:Klausur 11 IF GK
DESCRIPTION:
URL:https://www.gymnasium-teltow.de/event/klausur-11-if-gk-2/
CATEGORIES:KANT-Öffentlich
END:VEVENT
BEGIN:VEVENT
DTSTART;TZID=Europe/Berlin:20260421T150000
DTEND;TZID=Europe/Berlin:20260421T163000
DTSTAMP:20260420T021126
CREATED:20251020T192455Z
LAST-MODIFIED:20251221T172446Z
UID:10000548-1776783600-1776789000@www.gymnasium-teltow.de
SUMMARY:Lehrkräfte-Chor
DESCRIPTION:
URL:https://www.gymnasium-teltow.de/event/lehrkraefte-chor-15/
CATEGORIES:KANT-Öffentlich
END:VEVENT
BEGIN:VEVENT
DTSTART;VALUE=DATE:20260422
DTEND;VALUE=DATE:20260424
DTSTAMP:20260420T021126
CREATED:20250928T073921Z
LAST-MODIFIED:20260412T212424Z
UID:10000272-1776823200-1776909599@www.gymnasium-teltow.de
SUMMARY:Schriftliches Abitur GK + LK Biologie + LK Technik
DESCRIPTION:
URL:https://www.gymnasium-teltow.de/event/schriftliches-abitur-gk-lk-biologie/
CATEGORIES:KANT-Öffentlich
END:VEVENT
BEGIN:VEVENT
DTSTART;TZID=Europe/Berlin:20260422T133000
DTEND;TZID=Europe/Berlin:20260422T150000
DTSTAMP:20260420T021126
CREATED:20251020T192451Z
LAST-MODIFIED:20260412T212423Z
UID:10000541-1776864600-1776870000@www.gymnasium-teltow.de
SUMMARY:AG: Pontes
DESCRIPTION:
URL:https://www.gymnasium-teltow.de/event/ag-pontes-29/
LOCATION:2.02
CATEGORIES:KANT-Öffentlich
END:VEVENT
BEGIN:VEVENT
DTSTART;TZID=Europe/Berlin:20260422T133000
DTEND;TZID=Europe/Berlin:20260422T150000
DTSTAMP:20260420T021126
CREATED:20251020T192451Z
LAST-MODIFIED:20260412T212424Z
UID:10000542-1776864600-1776870000@www.gymnasium-teltow.de
SUMMARY:AG: Ab ins Beet
DESCRIPTION:
URL:https://www.gymnasium-teltow.de/event/ag-ab-ins-beet-30/
LOCATION:1.02
CATEGORIES:KANT-Öffentlich
END:VEVENT
BEGIN:VEVENT
DTSTART;TZID=Europe/Berlin:20260422T133000
DTEND;TZID=Europe/Berlin:20260422T150000
DTSTAMP:20260420T021126
CREATED:20251020T192451Z
LAST-MODIFIED:20260412T212424Z
UID:10000543-1776864600-1776870000@www.gymnasium-teltow.de
SUMMARY:AG: Chor
DESCRIPTION:
URL:https://www.gymnasium-teltow.de/event/ag-chor-29/
LOCATION:Aula
CATEGORIES:KANT-Öffentlich
END:VEVENT
BEGIN:VEVENT
DTSTART;TZID=Europe/Berlin:20260422T133000
DTEND;TZID=Europe/Berlin:20260422T150000
DTSTAMP:20260420T021126
CREATED:20251020T192452Z
LAST-MODIFIED:20260412T212424Z
UID:10000545-1776864600-1776870000@www.gymnasium-teltow.de
SUMMARY:AG: Jahrbuch
DESCRIPTION:Treffen nach Absprache
URL:https://www.gymnasium-teltow.de/event/ag-jahrbuch-29/
CATEGORIES:KANT-Öffentlich
END:VEVENT
BEGIN:VEVENT
DTSTART;TZID=Europe/Berlin:20260422T133000
DTEND;TZID=Europe/Berlin:20260422T150000
DTSTAMP:20260420T021126
CREATED:20251020T192452Z
LAST-MODIFIED:20260412T212423Z
UID:10000544-1776864600-1776870000@www.gymnasium-teltow.de
SUMMARY:AG: Bienen
DESCRIPTION:
URL:https://www.gymnasium-teltow.de/event/ag-bienen-29/
LOCATION:1.12
CATEGORIES:KANT-Öffentlich
END:VEVENT
BEGIN:VEVENT
DTSTART;TZID=Europe/Berlin:20260422T150000
DTEND;TZID=Europe/Berlin:20260422T160000
DTSTAMP:20260420T021126
CREATED:20251018T000937Z
LAST-MODIFIED:20260412T212423Z
UID:10000540-1776870000-1776873600@www.gymnasium-teltow.de
SUMMARY:AG: Technik
DESCRIPTION:
URL:https://www.gymnasium-teltow.de/event/ag-technik-15/
LOCATION:Aula
CATEGORIES:KANT-Öffentlich
END:VEVENT
BEGIN:VEVENT
DTSTART;TZID=Europe/Berlin:20260422T150000
DTEND;TZID=Europe/Berlin:20260422T163000
DTSTAMP:20260420T021126
CREATED:20251020T192452Z
LAST-MODIFIED:20260412T212423Z
UID:10000546-1776870000-1776875400@www.gymnasium-teltow.de
SUMMARY:AG: Theater
DESCRIPTION:
URL:https://www.gymnasium-teltow.de/event/ag-theater-29/
LOCATION:Aula
CATEGORIES:KANT-Öffentlich
END:VEVENT
BEGIN:VEVENT
DTSTART;TZID=Europe/Berlin:20260422T151500
DTEND;TZID=Europe/Berlin:20260422T163000
DTSTAMP:20260420T021126
CREATED:20250915T202428Z
LAST-MODIFIED:20260412T212424Z
UID:10000213-1776870900-1776875400@www.gymnasium-teltow.de
SUMMARY:Bewegungskampagne für Mädchen: Floorball
DESCRIPTION:Schul-AG für Mädchen zur sportlichen Entwicklung koordinativer Fähigkeiten mit Hilfe der Sportart Floorball
URL:https://www.gymnasium-teltow.de/event/bewegungskampagne-fuer-maedchen-floorball-58/
LOCATION:Turnhalle des Immanuel-Kant-Gymnasiums Teltow
CATEGORIES:KANT-Öffentlich
END:VEVENT
BEGIN:VEVENT
DTSTART;TZID=Europe/Berlin:20260423T092500
DTEND;TZID=Europe/Berlin:20260423T105500
DTSTAMP:20260420T021126
CREATED:20260412T143709Z
LAST-MODIFIED:20260412T212424Z
UID:10000736-1776936300-1776941700@www.gymnasium-teltow.de
SUMMARY:Klausur 11 PSY GK
DESCRIPTION:
URL:https://www.gymnasium-teltow.de/event/klausur-11-psy-gk/
CATEGORIES:KANT-Öffentlich
END:VEVENT
BEGIN:VEVENT
DTSTART;TZID=Europe/Berlin:20260423T163000
DTEND;TZID=Europe/Berlin:20260423T173000
DTSTAMP:20260420T021126
CREATED:20251020T192453Z
LAST-MODIFIED:20260412T212424Z
UID:10000547-1776961800-1776965400@www.gymnasium-teltow.de
SUMMARY:AG: Computerspiele entwickeln
DESCRIPTION:
URL:https://www.gymnasium-teltow.de/event/ag-computerspiele-entwickeln-29/
LOCATION:-1-09
CATEGORIES:KANT-Öffentlich
END:VEVENT
BEGIN:VEVENT
DTSTART;TZID=Europe/Berlin:20260424T092500
DTEND;TZID=Europe/Berlin:20260424T105500
DTSTAMP:20260420T021126
CREATED:20260412T143710Z
LAST-MODIFIED:20260412T212424Z
UID:10000737-1777022700-1777028100@www.gymnasium-teltow.de
SUMMARY:Klausur 11 EK GK
DESCRIPTION:
URL:https://www.gymnasium-teltow.de/event/klausur-11-ek-gk/
CATEGORIES:KANT-Öffentlich
END:VEVENT
BEGIN:VEVENT
DTSTART;TZID=Europe/Berlin:20260425T080000
DTEND;TZID=Europe/Berlin:20260425T150000
DTSTAMP:20260420T021126
CREATED:20260412T143710Z
LAST-MODIFIED:20260412T212424Z
UID:10000738-1777104000-1777129200@www.gymnasium-teltow.de
SUMMARY:Auswahltraining Floorball für die Landesmeisterschaften
DESCRIPTION:
URL:https://www.gymnasium-teltow.de/event/auswahltraining-floorball-fuer-die-landesmeisterschaften/
CATEGORIES:KANT-Öffentlich
END:VEVENT
BEGIN:VEVENT
DTSTART;VALUE=DATE:20260427
DTEND;VALUE=DATE:20260429
DTSTAMP:20260420T021126
CREATED:20260412T143710Z
LAST-MODIFIED:20260412T212424Z
UID:10000741-1777255200-1777341599@www.gymnasium-teltow.de
SUMMARY:Mitteilung zur Versetzungsgefährdung an Eltern (Blauer Brief)
DESCRIPTION:
URL:https://www.gymnasium-teltow.de/event/mitteilung-zur-versetzungsgefaehrdung-an-eltern-blauer-brief/
CATEGORIES:KANT-Öffentlich
END:VEVENT
BEGIN:VEVENT
DTSTART;TZID=Europe/Berlin:20260427T073000
DTEND;TZID=Europe/Berlin:20260427T090000
DTSTAMP:20260420T021126
CREATED:20260412T143710Z
LAST-MODIFIED:20260412T212424Z
UID:10000739-1777275000-1777280400@www.gymnasium-teltow.de
SUMMARY:Klausur 11 PH GK
DESCRIPTION:
URL:https://www.gymnasium-teltow.de/event/klausur-11-ph-gk/
CATEGORIES:KANT-Öffentlich
END:VEVENT
BEGIN:VEVENT
DTSTART;TZID=Europe/Berlin:20260427T153000
DTEND;TZID=Europe/Berlin:20260427T190000
DTSTAMP:20260420T021126
CREATED:20260412T143710Z
LAST-MODIFIED:20260412T212424Z
UID:10000740-1777303800-1777316400@www.gymnasium-teltow.de
SUMMARY:Elternsprechtag: Lehrkräfte laden ein
DESCRIPTION:
URL:https://www.gymnasium-teltow.de/event/elternsprechtag-lehrkraefte-laden-ein/
CATEGORIES:KANT-Öffentlich
END:VEVENT
BEGIN:VEVENT
DTSTART;VALUE=DATE:20260428
DTEND;VALUE=DATE:20260430
DTSTAMP:20260420T021126
CREATED:20250928T073922Z
LAST-MODIFIED:20260412T212425Z
UID:10000273-1777341600-1777427999@www.gymnasium-teltow.de
SUMMARY:Schriftliches Abitur GK + LK Deutsch
DESCRIPTION:
URL:https://www.gymnasium-teltow.de/event/schriftliches-abitur-gk-lk-deutsch/
CATEGORIES:KANT-Öffentlich
END:VEVENT
BEGIN:VEVENT
DTSTART;TZID=Europe/Berlin:20260428T132000
DTEND;TZID=Europe/Berlin:20260428T145000
DTSTAMP:20260420T021126
CREATED:20251205T102451Z
LAST-MODIFIED:20260412T212425Z
UID:10000703-1777382400-1777387800@www.gymnasium-teltow.de
SUMMARY:DELF-AG
DESCRIPTION:
URL:https://www.gymnasium-teltow.de/event/delf-ag-12/
CATEGORIES:KANT-Öffentlich
END:VEVENT
BEGIN:VEVENT
DTSTART;TZID=Europe/Berlin:20260429T133000
DTEND;TZID=Europe/Berlin:20260429T150000
DTSTAMP:20260420T021126
CREATED:20251020T192455Z
LAST-MODIFIED:20260412T212425Z
UID:10000549-1777469400-1777474800@www.gymnasium-teltow.de
SUMMARY:AG: Chor
DESCRIPTION:
URL:https://www.gymnasium-teltow.de/event/ag-chor-30/
LOCATION:Aula
CATEGORIES:KANT-Öffentlich
END:VEVENT
BEGIN:VEVENT
DTSTART;TZID=Europe/Berlin:20260429T133000
DTEND;TZID=Europe/Berlin:20260429T150000
DTSTAMP:20260420T021126
CREATED:20251020T192456Z
LAST-MODIFIED:20260412T212425Z
UID:10000550-1777469400-1777474800@www.gymnasium-teltow.de
SUMMARY:AG: Pontes
DESCRIPTION:
URL:https://www.gymnasium-teltow.de/event/ag-pontes-30/
LOCATION:2.02
CATEGORIES:KANT-Öffentlich
END:VEVENT
BEGIN:VEVENT
DTSTART;TZID=Europe/Berlin:20260429T133000
DTEND;TZID=Europe/Berlin:20260429T150000
DTSTAMP:20260420T021126
CREATED:20251020T192456Z
LAST-MODIFIED:20260412T212425Z
UID:10000551-1777469400-1777474800@www.gymnasium-teltow.de
SUMMARY:AG: Jahrbuch
DESCRIPTION:Treffen nach Absprache
URL:https://www.gymnasium-teltow.de/event/ag-jahrbuch-30/
CATEGORIES:KANT-Öffentlich
END:VEVENT
BEGIN:VEVENT
DTSTART;TZID=Europe/Berlin:20260429T133000
DTEND;TZID=Europe/Berlin:20260429T150000
DTSTAMP:20260420T021126
CREATED:20251020T192456Z
LAST-MODIFIED:20260412T212425Z
UID:10000552-1777469400-1777474800@www.gymnasium-teltow.de
SUMMARY:AG: Bienen
DESCRIPTION:
URL:https://www.gymnasium-teltow.de/event/ag-bienen-30/
LOCATION:1.12
CATEGORIES:KANT-Öffentlich
END:VEVENT
BEGIN:VEVENT
DTSTART;TZID=Europe/Berlin:20260429T133000
DTEND;TZID=Europe/Berlin:20260429T150000
DTSTAMP:20260420T021126
CREATED:20251020T192457Z
LAST-MODIFIED:20260412T212425Z
UID:10000553-1777469400-1777474800@www.gymnasium-teltow.de
SUMMARY:AG: Ab ins Beet
DESCRIPTION:
URL:https://www.gymnasium-teltow.de/event/ag-ab-ins-beet-31/
LOCATION:1.02
CATEGORIES:KANT-Öffentlich
END:VEVENT
BEGIN:VEVENT
DTSTART;TZID=Europe/Berlin:20260429T150000
DTEND;TZID=Europe/Berlin:20260429T163000
DTSTAMP:20260420T021126
CREATED:20251020T192457Z
LAST-MODIFIED:20260412T212425Z
UID:10000554-1777474800-1777480200@www.gymnasium-teltow.de
SUMMARY:AG: Theater
DESCRIPTION:
URL:https://www.gymnasium-teltow.de/event/ag-theater-30/
LOCATION:Aula
CATEGORIES:KANT-Öffentlich
END:VEVENT
BEGIN:VEVENT
DTSTART;TZID=Europe/Berlin:20260429T151500
DTEND;TZID=Europe/Berlin:20260429T163000
DTSTAMP:20260420T021126
CREATED:20250915T202428Z
LAST-MODIFIED:20260412T212425Z
UID:10000214-1777475700-1777480200@www.gymnasium-teltow.de
SUMMARY:Bewegungskampagne für Mädchen: Floorball
DESCRIPTION:Schul-AG für Mädchen zur sportlichen Entwicklung koordinativer Fähigkeiten mit Hilfe der Sportart Floorball
URL:https://www.gymnasium-teltow.de/event/bewegungskampagne-fuer-maedchen-floorball-59/
LOCATION:Turnhalle des Immanuel-Kant-Gymnasiums Teltow
CATEGORIES:KANT-Öffentlich
END:VEVENT
BEGIN:VEVENT
DTSTART;VALUE=DATE:20260430
DTEND;VALUE=DATE:20260502
DTSTAMP:20260420T021126
CREATED:20250928T073922Z
LAST-MODIFIED:20260412T212426Z
UID:10000274-1777514400-1777600799@www.gymnasium-teltow.de
SUMMARY:Schriftliches Abitur GK + LK Englisch
DESCRIPTION:
URL:https://www.gymnasium-teltow.de/event/schriftliches-abitur-gk-lk-englisch/
CATEGORIES:KANT-Öffentlich
END:VEVENT
END:VCALENDAR