BEGIN:VCALENDAR
VERSION:2.0
PRODID:-//Immanuel-Kant-Gymnasium - ECPv6.15.20//NONSGML v1.0//EN
CALSCALE:GREGORIAN
METHOD:PUBLISH
X-WR-CALNAME:Immanuel-Kant-Gymnasium
X-ORIGINAL-URL:https://www.gymnasium-teltow.de
X-WR-CALDESC:Veranstaltungen für Immanuel-Kant-Gymnasium
REFRESH-INTERVAL;VALUE=DURATION:PT1H
X-Robots-Tag:noindex
X-PUBLISHED-TTL:PT1H
BEGIN:VTIMEZONE
TZID:Europe/Berlin
BEGIN:DAYLIGHT
TZOFFSETFROM:+0100
TZOFFSETTO:+0200
TZNAME:CEST
DTSTART:20250330T010000
END:DAYLIGHT
BEGIN:STANDARD
TZOFFSETFROM:+0200
TZOFFSETTO:+0100
TZNAME:CET
DTSTART:20251026T010000
END:STANDARD
BEGIN:DAYLIGHT
TZOFFSETFROM:+0100
TZOFFSETTO:+0200
TZNAME:CEST
DTSTART:20260329T010000
END:DAYLIGHT
BEGIN:STANDARD
TZOFFSETFROM:+0200
TZOFFSETTO:+0100
TZNAME:CET
DTSTART:20261025T010000
END:STANDARD
BEGIN:DAYLIGHT
TZOFFSETFROM:+0100
TZOFFSETTO:+0200
TZNAME:CEST
DTSTART:20270328T010000
END:DAYLIGHT
BEGIN:STANDARD
TZOFFSETFROM:+0200
TZOFFSETTO:+0100
TZNAME:CET
DTSTART:20271031T010000
END:STANDARD
END:VTIMEZONE
BEGIN:VEVENT
DTSTART;VALUE=DATE:20260223
DTEND;VALUE=DATE:20260315
DTSTAMP:20260421T074525
CREATED:20250927T115413Z
LAST-MODIFIED:20260205T063944Z
UID:10000269-1771808400-1773449999@www.gymnasium-teltow.de
SUMMARY:VERA 8 - Testzeitraum
DESCRIPTION:
URL:https://www.gymnasium-teltow.de/event/vera-8-testzeitraum/
CATEGORIES:KANT-Öffentlich
END:VEVENT
BEGIN:VEVENT
DTSTART;VALUE=DATE:20260311
DTEND;VALUE=DATE:20260313
DTSTAMP:20260421T074525
CREATED:20250929T122419Z
LAST-MODIFIED:20260205T063946Z
UID:10000290-1773190800-1773277199@www.gymnasium-teltow.de
SUMMARY:Jugend trainiert für Olympia  - Basketball Grundschulen - eigene Halle
DESCRIPTION:
URL:https://www.gymnasium-teltow.de/event/jugend-trainiert-fuer-olympia-basketball-grundschulen-eigene-halle/
CATEGORIES:KANT-Öffentlich
END:VEVENT
BEGIN:VEVENT
DTSTART;TZID=Europe/Berlin:20260312T163000
DTEND;TZID=Europe/Berlin:20260312T173000
DTSTAMP:20260421T074525
CREATED:20251007T075530Z
LAST-MODIFIED:20260205T063947Z
UID:10000470-1773333000-1773336600@www.gymnasium-teltow.de
SUMMARY:AG: Computerspiele entwickeln
DESCRIPTION:
URL:https://www.gymnasium-teltow.de/event/ag-computerspiele-entwickeln-23/
LOCATION:-1-09
CATEGORIES:KANT-Öffentlich
END:VEVENT
END:VCALENDAR