BEGIN:VCALENDAR
VERSION:2.0
PRODID:-//Immanuel-Kant-Gymnasium - ECPv6.15.20//NONSGML v1.0//EN
CALSCALE:GREGORIAN
METHOD:PUBLISH
X-ORIGINAL-URL:https://www.gymnasium-teltow.de
X-WR-CALDESC:Veranstaltungen für Immanuel-Kant-Gymnasium
REFRESH-INTERVAL;VALUE=DURATION:PT1H
X-Robots-Tag:noindex
X-PUBLISHED-TTL:PT1H
BEGIN:VTIMEZONE
TZID:Europe/Berlin
BEGIN:DAYLIGHT
TZOFFSETFROM:+0100
TZOFFSETTO:+0200
TZNAME:CEST
DTSTART:20250330T010000
END:DAYLIGHT
BEGIN:STANDARD
TZOFFSETFROM:+0200
TZOFFSETTO:+0100
TZNAME:CET
DTSTART:20251026T010000
END:STANDARD
BEGIN:DAYLIGHT
TZOFFSETFROM:+0100
TZOFFSETTO:+0200
TZNAME:CEST
DTSTART:20260329T010000
END:DAYLIGHT
BEGIN:STANDARD
TZOFFSETFROM:+0200
TZOFFSETTO:+0100
TZNAME:CET
DTSTART:20261025T010000
END:STANDARD
BEGIN:DAYLIGHT
TZOFFSETFROM:+0100
TZOFFSETTO:+0200
TZNAME:CEST
DTSTART:20270328T010000
END:DAYLIGHT
BEGIN:STANDARD
TZOFFSETFROM:+0200
TZOFFSETTO:+0100
TZNAME:CET
DTSTART:20271031T010000
END:STANDARD
END:VTIMEZONE
BEGIN:VEVENT
DTSTART;VALUE=DATE:20260223
DTEND;VALUE=DATE:20260315
DTSTAMP:20260423T132326
CREATED:20250927T115413Z
LAST-MODIFIED:20260205T063944Z
UID:10000269-1771808400-1773449999@www.gymnasium-teltow.de
SUMMARY:VERA 8 - Testzeitraum
DESCRIPTION:
URL:https://www.gymnasium-teltow.de/event/vera-8-testzeitraum/
CATEGORIES:KANT-Öffentlich
END:VEVENT
BEGIN:VEVENT
DTSTART;VALUE=DATE:20260224
DTEND;VALUE=DATE:20260226
DTSTAMP:20260423T132326
CREATED:20250923T055411Z
LAST-MODIFIED:20260205T063941Z
UID:10000237-1771894800-1771981199@www.gymnasium-teltow.de
SUMMARY:LK Bio 11- Exkursion
DESCRIPTION:Neuronen und Gliazellen
URL:https://www.gymnasium-teltow.de/event/lk-bio-11-exkursion/
CATEGORIES:KANT-Öffentlich
END:VEVENT
BEGIN:VEVENT
DTSTART;TZID=Europe/Berlin:20260225T133000
DTEND;TZID=Europe/Berlin:20260225T150000
DTSTAMP:20260423T132326
CREATED:20251007T075518Z
LAST-MODIFIED:20260205T063943Z
UID:10000448-1772026200-1772031600@www.gymnasium-teltow.de
SUMMARY:AG: Ab ins Beet
DESCRIPTION:
URL:https://www.gymnasium-teltow.de/event/ag-ab-ins-beet-21/
LOCATION:1.02
CATEGORIES:KANT-Öffentlich
END:VEVENT
BEGIN:VEVENT
DTSTART;TZID=Europe/Berlin:20260225T133000
DTEND;TZID=Europe/Berlin:20260225T150000
DTSTAMP:20260423T132327
CREATED:20251007T075519Z
LAST-MODIFIED:20260205T063943Z
UID:10000449-1772026200-1772031600@www.gymnasium-teltow.de
SUMMARY:AG: Bienen
DESCRIPTION:
URL:https://www.gymnasium-teltow.de/event/ag-bienen-21/
LOCATION:1.12
CATEGORIES:KANT-Öffentlich
END:VEVENT
BEGIN:VEVENT
DTSTART;TZID=Europe/Berlin:20260225T133000
DTEND;TZID=Europe/Berlin:20260225T150000
DTSTAMP:20260423T132327
CREATED:20251007T075519Z
LAST-MODIFIED:20260205T063943Z
UID:10000450-1772026200-1772031600@www.gymnasium-teltow.de
SUMMARY:AG: Jahrbuch
DESCRIPTION:Treffen nach Absprache
URL:https://www.gymnasium-teltow.de/event/ag-jahrbuch-21/
CATEGORIES:KANT-Öffentlich
END:VEVENT
BEGIN:VEVENT
DTSTART;TZID=Europe/Berlin:20260225T133000
DTEND;TZID=Europe/Berlin:20260225T150000
DTSTAMP:20260423T132327
CREATED:20251007T075519Z
LAST-MODIFIED:20260205T063943Z
UID:10000451-1772026200-1772031600@www.gymnasium-teltow.de
SUMMARY:AG: Chor
DESCRIPTION:
URL:https://www.gymnasium-teltow.de/event/ag-chor-21/
LOCATION:Aula
CATEGORIES:KANT-Öffentlich
END:VEVENT
BEGIN:VEVENT
DTSTART;TZID=Europe/Berlin:20260225T133000
DTEND;TZID=Europe/Berlin:20260225T150000
DTSTAMP:20260423T132327
CREATED:20251007T075520Z
LAST-MODIFIED:20260205T063942Z
UID:10000453-1772026200-1772031600@www.gymnasium-teltow.de
SUMMARY:AG: Pontes
DESCRIPTION:
URL:https://www.gymnasium-teltow.de/event/ag-pontes-21/
LOCATION:2.02
CATEGORIES:KANT-Öffentlich
END:VEVENT
BEGIN:VEVENT
DTSTART;TZID=Europe/Berlin:20260225T150000
DTEND;TZID=Europe/Berlin:20260225T160000
DTSTAMP:20260423T132327
CREATED:20251007T075520Z
LAST-MODIFIED:20260205T063942Z
UID:10000452-1772031600-1772035200@www.gymnasium-teltow.de
SUMMARY:AG: Technik
DESCRIPTION:
URL:https://www.gymnasium-teltow.de/event/ag-technik-11/
LOCATION:Aula
CATEGORIES:KANT-Öffentlich
END:VEVENT
BEGIN:VEVENT
DTSTART;TZID=Europe/Berlin:20260225T150000
DTEND;TZID=Europe/Berlin:20260225T163000
DTSTAMP:20260423T132327
CREATED:20251007T075524Z
LAST-MODIFIED:20260205T063943Z
UID:10000454-1772031600-1772037000@www.gymnasium-teltow.de
SUMMARY:AG: Theater
DESCRIPTION:
URL:https://www.gymnasium-teltow.de/event/ag-theater-21/
LOCATION:Aula
CATEGORIES:KANT-Öffentlich
END:VEVENT
BEGIN:VEVENT
DTSTART;TZID=Europe/Berlin:20260225T151500
DTEND;TZID=Europe/Berlin:20260225T163000
DTSTAMP:20260423T132327
CREATED:20250915T202427Z
LAST-MODIFIED:20260205T063942Z
UID:10000205-1772032500-1772037000@www.gymnasium-teltow.de
SUMMARY:Bewegungskampagne für Mädchen: Floorball
DESCRIPTION:Schul-AG für Mädchen zur sportlichen Entwicklung koordinativer Fähigkeiten mit Hilfe der Sportart Floorball
URL:https://www.gymnasium-teltow.de/event/bewegungskampagne-fuer-maedchen-floorball-50/
LOCATION:Turnhalle des Immanuel-Kant-Gymnasiums Teltow
CATEGORIES:KANT-Öffentlich
END:VEVENT
END:VCALENDAR